BEGIN:VCALENDAR
VERSION:2.0
PRODID:-//wp-events-plugin.com//7.2.3.1//EN
TZID:America/New_York
X-WR-TIMEZONE:America/New_York
BEGIN:VEVENT
UID:279@chareejanelle.com
DTSTART;TZID=America/New_York:20250923T180000
DTEND;TZID=America/New_York:20251021T190000
DTSTAMP:20251003T172654Z
URL:https://chareejanelle.com/events-list/yin-yoga-tuesday-6pm/
SUMMARY:Yin Yoga Tuesday 6pm
DESCRIPTION:\n 	Yin yoga is slow-paced\, contemplative practice. Postures a
 re held for 3 to 5 minutes. This class is appropriate for all levels of p
 ractice and held in a ‘warm’ room temperature.These poses focus on con
 nective tissues of the body — tendons\, fascia\, ligaments — with an a
 im of increasing circulation of joints &amp\; flexibility. This class ai
 ms to cultivate deeper awareness of inner silence\, bringing to light a un
 iversal\, interconnecting quality.\n\nCharee stresses the importance of ma
 king time in our busy lives to slow down\, quiet the mind &amp\; tune inwa
 rds. Cultivating a yin yoga practice cultivates qualities of loving kin
 dness\, gratitude\, compassion &amp\; divine grace in one’s life &amp\; 
 all areas of life.\n\nMay her class be an invitation to sanctuary\, a Divi
 ne remembrance.\n\n&nbsp\;\n\nSign up online Hotyogawestreading.com
ATTACH;FMTTYPE=image/jpeg:https://chareejanelle.com/wp-content/uploads/202
 4/10/Screenshot_20241012_072546_Facebook.jpg
CATEGORIES:Yoga
LOCATION:hot yoga west reading\, 120 south 3rd Avenue \, Reading \, Pa \, U
 nited States
GEO:40.333605;-75.944306
X-APPLE-STRUCTURED-LOCATION;VALUE=URI;X-ADDRESS=120 south 3rd Avenue \, Rea
 ding \, Pa \, United States;X-APPLE-RADIUS=100;X-TITLE=hot yoga west readi
 ng:geo:40.333605,-75.944306
END:VEVENT
BEGIN:VTIMEZONE
TZID:America/New_York
X-LIC-LOCATION:America/New_York
BEGIN:DAYLIGHT
DTSTART:20250309T030000
TZOFFSETFROM:-0500
TZOFFSETTO:-0400
TZNAME:EDT
END:DAYLIGHT
END:VTIMEZONE
END:VCALENDAR