BEGIN:VCALENDAR
VERSION:2.0
PRODID:-//wp-events-plugin.com//7.2.3.1//EN
TZID:America/New_York
X-WR-TIMEZONE:America/New_York
BEGIN:VEVENT
UID:331@chareejanelle.com
DTSTART;TZID=America/New_York:20260201T180000
DTEND;TZID=America/New_York:20260201T200000
DTSTAMP:20260125T212121Z
URL:https://chareejanelle.com/events-list/waves-of-serenity-a-transformati
 ve-journey-of-healing/
SUMMARY:Waves of Serenity: A Transformative Journey of Healing
DESCRIPTION:&nbsp\;\n\n\n\nWaves of Serenity: A Transformative Journey of H
 ealing\n\nPresented by Divine Conduit Miraculous Transformations ( Neela- 
 Charee Janelle ) &amp\; Floyd Joynes of Symphonic Harmonics.\n\nJoin us fo
 r an immersive evening of relaxation and renewal as we combine the transfo
 rmative powers of Sound Healing &amp\; Energy Healing.\nWaves of Serenity 
 is a sacred collaboration designed to realign your mind\, body\, and spiri
 t.\nThrough the harmonious blend of soothing soundscapes and the gentle\, 
 restorative energy of Reiki\, theta &amp\; quantum\, you'll be guided into
  a state of deep peace and inner balance &amp\; mind-heart coherence\nWhet
 her you're seeking stress relief\, energetic alignment\, or a moment to re
 connect with your true self\, this experience will leave you feeling refre
 shed and inspired.\n\n&nbsp\;\n\n✨ What to Bring:\nA yoga mat\, blanket\
 , or things to get you cozy\, an open mind\, your beautiful heart\, a sacr
 ed item for the altar\, a journal\, and your perfectly beautiful\, gorgeou
 s self.\n\nSpaces are limited to ensure an intimate and personalized exper
 ience. Reserve your space and let the Waves of Serenity wash over you.\n\n
 sliding scale $88 -$111\n\nDate Sunday\n\nFeb 1st\n\n6pm -8pm\n\nSchool of
  Miracles\nMorgantown\, PA 19543\n\n&nbsp\;\n\n&nbsp\;\n\n&nbsp\;\n\nRegis
 tration is required.\n\nTier pricing available\n\n&nbsp\;\n\n&nbsp\;\n\n&n
 bsp\;\n\n$88 \n\n⬇️⬇️\n\n\n\n&nbsp\;\n\n&nbsp\;\n\n&nbsp\;\n\n$99\
 n\n⬇️⬇️\n\n\n\n$111\n\n⬇️⬇️\n\n\n\nOnce registered you wil
 l receive confirmation with all details pertaining to this event.    No 
 refunds are given.  Thanks for your understanding.  We l0ok forward to t
 his evening of magic and LOVE.\n\n&nbsp\;\n\n&nbsp\;\n\n&nbsp\;
ATTACH;FMTTYPE=image/jpeg:https://chareejanelle.com/wp-content/uploads/202
 6/01/Screenshot_20260125_161815_Facebook.jpg
CATEGORIES:Sound,Special guest,Sunday
LOCATION:School of Miracles\, 1191 shiloh road\, Morgantown \, Pennsylvania
 \, United States
GEO:40.178288;-75.917456
X-APPLE-STRUCTURED-LOCATION;VALUE=URI;X-ADDRESS=1191 shiloh road\, Morganto
 wn \, Pennsylvania\, United States;X-APPLE-RADIUS=100;X-TITLE=School of Mi
 racles:geo:40.178288,-75.917456
END:VEVENT
BEGIN:VTIMEZONE
TZID:America/New_York
X-LIC-LOCATION:America/New_York
BEGIN:STANDARD
DTSTART:20251102T010000
TZOFFSETFROM:-0400
TZOFFSETTO:-0500
TZNAME:EST
END:STANDARD
END:VTIMEZONE
END:VCALENDAR