BEGIN:VCALENDAR
VERSION:2.0
PRODID:-//wp-events-plugin.com//7.2.3.1//EN
TZID:America/New_York
X-WR-TIMEZONE:America/New_York
BEGIN:VEVENT
UID:287@chareejanelle.com
DTSTART;TZID=America/New_York:20251109T100000
DTEND;TZID=America/New_York:20251109T120000
DTSTAMP:20251107T081143Z
URL:https://chareejanelle.com/events-list/uncoil-the-core-aerial-yoga-for-
 psoas-release/
SUMMARY:UNCOIL THE CORE - Aerial Yoga For Psoas Release
DESCRIPTION:\nUNCOIL THE CORE- AERIAL JOURNEY FOR PSOAS RELEASE\nUncoil the
  Core: Aerial Yoga Journey for Psoas Release\nA nervous system + soul rese
 t through suspension\, support\, and surrender\nDuration: 2 hours\nFacilit
 ator: Charee Janelle\nIntention: To release deep psoas tension\, restore b
 alance in the hips and spine\, and reawaken the inner sense of safety\, so
 ftness\, and flow.\nYour psoas is more than a muscle — it’s the body
 ’s messenger of safety\, emotion\, and trust.\nIn this 2-hour aerial yog
 a experience\, you’ll be gently supported\, stretched\, and guided to re
 lease tension from deep within your core physically\, energetically\, and 
 emotionally.\nFloat\, unwind\, and remember what it feels like to live fro
 m softness rather than survival.\nThis journey weaves together:\n🕯 Grou
 nding somatic breathwork\n🌀 Supported aerial decompression + inversion\
 n🤲 “Uncooperative” partner-assisted stretches (guided consent-based
  touch)\n🎶 Sound healing + cocoon meditation\n💓 Integration + closin
 g circle\n-\nDate: Sunday November 9th\nLocation: School Of Miracles Morga
 ntown PA\nExchange: $65\nDuration: 2 hours\nSpace limited to 5 souls\nCome
  home to your body.\nSoften the armor.\nAwaken the flow.\n&nbsp\;\n\n
ATTACH;FMTTYPE=image/jpeg:https://chareejanelle.com/wp-content/uploads/202
 5/10/Screenshot_20251016_101814_Instagram.jpg
CATEGORIES:AERIAL,Sound,Sunday,Workshops
LOCATION:School of Miracles\, 1191 shiloh road\, Morgantown \, Pennsylvania
 \, United States
GEO:40.178288;-75.917456
X-APPLE-STRUCTURED-LOCATION;VALUE=URI;X-ADDRESS=1191 shiloh road\, Morganto
 wn \, Pennsylvania\, United States;X-APPLE-RADIUS=100;X-TITLE=School of Mi
 racles:geo:40.178288,-75.917456
END:VEVENT
BEGIN:VTIMEZONE
TZID:America/New_York
X-LIC-LOCATION:America/New_York
BEGIN:STANDARD
DTSTART:20251102T010000
TZOFFSETFROM:-0400
TZOFFSETTO:-0500
TZNAME:EST
END:STANDARD
END:VTIMEZONE
END:VCALENDAR