BEGIN:VCALENDAR
VERSION:2.0
PRODID:-//wp-events-plugin.com//7.2.3.1//EN
TZID:America/New_York
X-WR-TIMEZONE:America/New_York
BEGIN:VEVENT
UID:332@chareejanelle.com
DTSTART;TZID=America/New_York:20260205T183000
DTEND;TZID=America/New_York:20260205T194500
DTSTAMP:20260208T054145Z
URL:https://chareejanelle.com/events-list/transformational-breathwork-w-ch
 ad-fisher/
SUMMARY:TRANSFORMATIONAL BREATHWORK w/Chad Fisher
DESCRIPTION:\n\n&nbsp\;\n\nFIRST THURSDAYS ~ You are invited to Breathwork 
 with Chad Fisher- Chad is a profound leader\, teacher&amp\; guide\, a\nSha
 manic Rapid Transformational Healer. He will guide you through breathwork 
 tailored to the unique energy of the group. His adaptive approach ensures 
 that each participant receives exactly what they need\, allowing for a dyn
 amic and personalized healing experience. Through his guidance\, you will 
 harness the power of breath \, release stagnant energies\, enhance your vi
 tality\, and achieve a state of profound relaxation and clarity.\n\n1st Th
 ursdays  6:30pm -7:45pm\n\nRegistration is required to confirm your atten
 dance.\n\n&nbsp\;\n\nThis intimate semi semi-private space keeps the energ
 y high vibe.\n\n&nbsp\;\n\nSliding scale pricing available for those whom 
 need some support.\n\nContact info@chareejanelle.com to inquire\n\n&nbsp\;
 \n\n&nbsp\;\n\n\n\n\n\n
ATTACH;FMTTYPE=image/jpeg:https://chareejanelle.com/wp-content/uploads/202
 6/01/Transformational-Breathwork-with-Chad-1st-Thursdays.jpeg
LOCATION:School of Miracles\, 123 miracle way \, Morgantown \, Pennsylvania
 \, United States
GEO:40.155285;-75.889941
X-APPLE-STRUCTURED-LOCATION;VALUE=URI;X-ADDRESS=123 miracle way \, Morganto
 wn \, Pennsylvania\, United States;X-APPLE-RADIUS=100;X-TITLE=School of Mi
 racles:geo:40.155285,-75.889941
END:VEVENT
BEGIN:VTIMEZONE
TZID:America/New_York
X-LIC-LOCATION:America/New_York
BEGIN:STANDARD
DTSTART:20251102T010000
TZOFFSETFROM:-0400
TZOFFSETTO:-0500
TZNAME:EST
END:STANDARD
END:VTIMEZONE
END:VCALENDAR