BEGIN:VCALENDAR
VERSION:2.0
PRODID:-//wp-events-plugin.com//7.2.3.1//EN
TZID:America/New_York
X-WR-TIMEZONE:America/New_York
BEGIN:VEVENT
UID:171@chareejanelle.com
DTSTART;TZID=America/New_York:20241011T093000
DTEND;TZID=America/New_York:20241013T173000
DTSTAMP:20240920T141024Z
URL:https://chareejanelle.com/events-list/theta-healing-basic-dna-training
 -certification-with-fred-salzman/
SUMMARY:Theta Healing Basic Dna Training /Certification with Fred Salzman
DESCRIPTION:ThetaHealing® Basic DNA 1 Practitioner Training\n\nOctober 11-
 13\, Friday-Sunday\, 930a -530p each day\n\nMorgantown\, PA\n\n&nbsp\;\n\n
 This is the first class to become a Certified ThetaHealing® practitioner 
 and there are no prerequisites required to take this class. The heart of t
 his class is the learning and practicing of quantum techniques that will a
 llow you to change limiting unconscious programs (on core\, genetic\, hist
 oric and soul levels) and to download feelings to every cell in your body 
 that that will help manifest your highest potential experience in life. Th
 ese limiting or negative beliefs are buried deep in your subconscious mind
  and affect your physical\, mental\, emotional and energetic systems at al
 l moments\, until they are identified and changed. ThetaHealing® can do t
 his easily\, effectively and permanently! You will learn to identify your 
 own beliefs and practice removing them for others in the seminar.\n\n&nbsp
 \;\n\nOther topics and exercises include:\n\n- Learning why we create prog
 rams in our life\n\n- Learning discernment when working with guides and gu
 ardian angels\n\n- Introduction to manifesting abundance in your life\n\n-
  How to conduct future readings\n\n- Balancing your moods and body chemist
 ry\n\n- Removal of wayward energies and implants\n\n- DNA\, youth &amp\; v
 itality activations\n\n- The concepts of the Seven Planes of Existence\n\n
 - Utilizing the power and Connecting to the Creator of All that Is\n\n&nbs
 p\;\n\nBy the end of the seminar\, the student will become a Certified The
 taHealing® Practitioner. No prerequisite class is required\, and all who 
 wish to learn are welcome. Class duration is 3 full days (Friday\, Saturda
 y and Sunday from 930a- 530p each day). There will be light snacks and dri
 nks provided. It is recommended to bring your own lunch or there will be l
 ocal restaurants to choose from.\n\nTuition is $650 per person and include
 s textbook\, class manual and certificate of completion of the ThetaHealin
 g Basic DNA1 Course. There is a $250 non-refundable deposit required to be
  paid by September 28th. The remaining balance of $400 can be paid prior t
 o or the first day of the class. Payment can be cash\, personal check\, Pa
 ypal (fredsalzman@yahoo.com \, friends and family)\, Zelle or Venmo (@fred
 erick-salzman). Please contact Fred Salzman at 443-745-1708 for further qu
 estions or to register. Looking forward to seeing you and helping you to e
 mpower the creative force within yourself!!!\n\n&nbsp\;\n\nRegister now &a
 mp\; or contact Fred to set up payment plans.\n\nhttps://www.thetahealing.
 com/seminar-342015-details.html\n\n&nbsp\;\n\n&nbsp\;\n\nYour teacher will
  be Fred Salzman\, an Advanced ThetaHealing Practitioner and Instructor fo
 r 8+ years who previously lived in the Reading area for 6 years and curren
 tly resides in Hot Springs\, Arkansas. He has experienced over 3\,500 Thet
 aHealing sessions and conducted over 55 ThetaHealing training courses. His
  extensive experience and infectious enthusiasm for life allows this cours
 e to be easily understood and integrated into your daily existence.\n\n&nb
 sp\;\n\n&nbsp\;\n\n&nbsp\;
ATTACH;FMTTYPE=image/jpeg:https://chareejanelle.com/wp-content/uploads/202
 4/09/Screenshot_20240920_100845_Facebook.jpg
CATEGORIES:GUEST WORKSHOP,Special guest
LOCATION:charee home shala\, 1191 shiloh road\, morgantown pa\, PA\, 19543\
 , United States
GEO:40.178621;-75.917988
X-APPLE-STRUCTURED-LOCATION;VALUE=URI;X-ADDRESS=1191 shiloh road\, morganto
 wn pa\, PA\, 19543\, United States;X-APPLE-RADIUS=100;X-TITLE=charee home 
 shala:geo:40.178621,-75.917988
END:VEVENT
BEGIN:VTIMEZONE
TZID:America/New_York
X-LIC-LOCATION:America/New_York
BEGIN:DAYLIGHT
DTSTART:20240310T030000
TZOFFSETFROM:-0500
TZOFFSETTO:-0400
TZNAME:EDT
END:DAYLIGHT
END:VTIMEZONE
END:VCALENDAR