BEGIN:VCALENDAR
VERSION:2.0
PRODID:-//wp-events-plugin.com//7.2.3.1//EN
TZID:America/New_York
X-WR-TIMEZONE:America/New_York
BEGIN:VEVENT
UID:378@chareejanelle.com
DTSTART;TZID=America/New_York:20260430T200000
DTEND;TZID=America/New_York:20260430T210000
DTSTAMP:20260422T183404Z
URL:https://chareejanelle.com/events-list/the-atonement-process-w-robert-w
 ood-charee-janelle/
SUMMARY:The Atonement Process w/Robert Wood & Charee Janelle
DESCRIPTION:\n\nTHE ATONEMENT PROCESS\n\nwith Miracle Minded Teachers\n\nRo
 bert Wood &amp\; Charee Janelle\n\n&nbsp\;\n\nThis will be held weekly on 
 Thursdays via zoom 8pm -9pm\, until further notice.\n\nLearn to merge &amp
 \; demonstrate your miraculous abilities through The Atonement Process wit
 h Robert Wood and Charee Janelle  &amp\; others miracle minded teachers.
   This is an in depth study of A Course in Miracles. This will NOT be an 
 analytical discussion nor intellectual debate on what the course says. Ins
 tead of reading then interpreting the information\, we will be practicing 
 precise principles that apply to actual life situations. Individuals will 
 be seeking healing on every level and will be experiencing live transforma
 tion.\n\nClass 1… Introduction    Class guidelines.  Class goals. Med
 itation  Students introductions\n\nClass 2.  The Atonement Process    
   Understanding the steps of Atonement and how to practice them\n\nCla
 ss 3.  Continue to examine and demonstrate the method of Atonement  - 
 real examples and live practicing\n\nClass 4.   Forgiveness and percepti
 on correction apply to the atonement.\n\n&nbsp\;\n\nFurther Class topics
  will be announced each month..\n\nClasses are on a love offering bases 
 with a suggestion of $33 /month. Any donation is acceptable through vemno.
   Please include your contact information &amp\; email. Give what you wis
 h to contribute as a blessing to this work.  Thank you.\n\nQuestions or i
 nquires please inquire below 
ATTACH;FMTTYPE=image/jpeg:https://chareejanelle.com/wp-content/uploads/202
 6/04/The-Atonement-Process-wRobert-Wood-Charee-Janelle.jpeg
CATEGORIES:ACIM - A Course In Miracles,GUEST WORKSHOP,Relationship,Special
 guest
END:VEVENT
BEGIN:VTIMEZONE
TZID:America/New_York
X-LIC-LOCATION:America/New_York
BEGIN:DAYLIGHT
DTSTART:20260308T030000
TZOFFSETFROM:-0500
TZOFFSETTO:-0400
TZNAME:EDT
END:DAYLIGHT
END:VTIMEZONE
END:VCALENDAR