BEGIN:VCALENDAR
VERSION:2.0
PRODID:-//wp-events-plugin.com//7.2.3.1//EN
TZID:America/New_York
X-WR-TIMEZONE:America/New_York
BEGIN:VEVENT
UID:268@chareejanelle.com
DTSTART;TZID=America/New_York:20260605T083000
DTEND;TZID=America/New_York:20260605T180000
DTSTAMP:20260415T185204Z
URL:https://chareejanelle.com/events-list/the-art-of-japanese-zen-facial-m
 assage-with-ear-acupressure-gua-sha-tools-and-essential-aromatherapy-oils/
SUMMARY:THE ART OF JAPANESE ZEN FACIAL MASSAGE With EAR – ACUPRESSURE \, 
 GUA SHA TOOLS AND ESSENTIAL  AROMATHERAPY OILS
DESCRIPTION:\n\n\n\n\n\n\n\n&nbsp\;\nTHE ART OF JAPANESE ZEN FACIAL MASSAGE
  \nWith EAR – ACUPRESSURE\, GUA SHA TOOLS\, AND ESSENTIAL AROMATHERAPY O
 ILS\n&nbsp\;\n\n&nbsp\;\n\nDID YOU KNOW? “There are so many other forms 
 of communication that can be and\n\nshould be used. Not fast pictures and 
 fast melodies\, but touch\, dance\, and feel.” –\n\nPeter Seeger\n\n&n
 bsp\;\n\nJapanese Facial Massage is a unique method that focuses on a blen
 d of the aesthetic and\n\nphysiological\n\n&nbsp\;\n\nThe focus is on:\n\n
  	Increasing the flow of oxygen\, lymphatic drainage\, and blood to the fa
 cial area\, neck\, and shoulders\n\n\n 	Increased Muscle Tone\, including 
 the Fascia.\n\n\n 	improved skin conditions ( color\, appearance\, texture
  )\n\n\n 	Treating Skin Pathologies that produce unnecessary reddening\, a
 brasions\, itching\, and thickening of the skin\n\n\n 	Reducing surface di
 mpling of cellulite. Alters shape and appearance of cellulite under the sk
 in.\n\n\n 	Emotional and physical detoxification by treating anxiety\, wor
 ry\, anger\, and fear that can lead to premature aging\n\n\n 	Better menta
 l alertness\, focus\, and relaxation for the client\n\n\n 	Emotional clean
 sing\, reducing fatigue.\n\n\n 	Decreasing high Blood Pressure\n\n\n 	Prev
 entive maintenance to rejuvenate the mind\, body\, and spirit\n\n\n 	Ear-A
 cupressure Points for deep healing\n\n\n 	Trigger point elimination and ph
 ysical pain reduction and elimination in the shoulders\, neck \,and head.\
 n\n&nbsp\;\n\nTraditionally\, through the use of Acupressure\, Gua Sha too
 ls\, and special manipulative\n\nmassage strokes\, the treatment goes beyo
 nd Swedish massage and concentrates on opening\n\nup the acupuncture merid
 ians that energize the face\, head\, and shoulders to achieve a\n\nbalanci
 ng and grounding effect.\n\n&nbsp\;\n\nAdditional physiological relief is 
 obtained for all types of headaches\, TMJ\n\nDYSFUNCTIONS\, sinusitis\, an
 d emotional balancing.\n\n&nbsp\;\n\nThis is a hands-on course where the s
 tudent learns to incorporate theory with working with Qi\n\nusing penetrat
 ion techniques\, field awareness\, and intention. The practitioner goes be
 yond\n\nthe superficial beauty of the client by bringing out the RADIANCE 
 OF INNER HEALTH\n\n&nbsp\;\n\nIN THIS COURSE YOU WILL LEARN :\n\n 	THE CAU
 SES OF SKIN DISEASES AND AGING ACCORDING TO THE CHINESE MEDICINE MODEL.\n 
 	12 SOFT-TISSUE STROKES FOR REJUVENATION AND PREVENTION OF AGING.\n 	THE F
 UNCTION OF ACUPRESSURE POINTS\, THEIR LOCATION AND EVALUATION ON THE EARS\
 , FACE\, HEAD\, AND NECK.\n 	SPECIAL USES OF GUA SHA TOOLS AND ESSENTIAL O
 ILS FOR THE FACE AND CONSTITUTION WITH SPECIAL APPLICATION TECHNIQUES TO T
 HE EARS.\n 	FACIAL SKIN-LIFT AND SKIN REJUVENATION QIGONG EXERCISES\n\n&nb
 sp\;\n\nJapanese Facial massage requires no special equipment. It has no s
 ide effects and can be\n\nincorporated with any moisturizing and cleansing
  treatment\n\n&nbsp\;\n\nCHECK OUT THIS WORKSHOP ON FB AS WELL AS MY OWN P
 ERSONAL FB PAGE\n\nREGISTER WITH WOLFGANG LUCKMANN\n\nE-MAIL: WOLFGANG@WOL
 FGANGLUCKMANN.COM\,\n\nWEBADDRESS:WWW.WOLFGANGLUCKMANN.COM\n\nMAILING ADDR
 ESS: 2021 WILDCAT CLIFFS LANE\, LAWRENCEVILLE\, GA. 30043\n\n&nbsp\;\n\nDi
 d you know? Wolfgang is a member of the Massage Therapy Hall of Fame\n\n&n
 bsp\;\n\n&nbsp\;\n\n\n\n\n\n&nbsp\;
ATTACH;FMTTYPE=image/jpeg:https://chareejanelle.com/wp-content/uploads/202
 5/09/Art-of-Japanese-2800x1600-1-scaled.png
CATEGORIES:GUEST WORKSHOP,Special guest,Workshops
LOCATION:School of Miracles\, 1191 shiloh road\, Morgantown \, Pennsylvania
 \, United States
GEO:40.178288;-75.917456
X-APPLE-STRUCTURED-LOCATION;VALUE=URI;X-ADDRESS=1191 shiloh road\, Morganto
 wn \, Pennsylvania\, United States;X-APPLE-RADIUS=100;X-TITLE=School of Mi
 racles:geo:40.178288,-75.917456
END:VEVENT
BEGIN:VTIMEZONE
TZID:America/New_York
X-LIC-LOCATION:America/New_York
BEGIN:DAYLIGHT
DTSTART:20260308T030000
TZOFFSETFROM:-0500
TZOFFSETTO:-0400
TZNAME:EDT
END:DAYLIGHT
END:VTIMEZONE
END:VCALENDAR