BEGIN:VCALENDAR
VERSION:2.0
PRODID:-//wp-events-plugin.com//7.2.3.1//EN
TZID:America/New_York
X-WR-TIMEZONE:America/New_York
BEGIN:VEVENT
UID:69@chareejanelle.com
DTSTART;TZID=America/New_York:20230621T190000
DTEND;TZID=America/New_York:20230621T210000
DTSTAMP:20230619T175551Z
URL:https://chareejanelle.com/events-list/summer-solstice-drum-fire-ceremo
 ny/
SUMMARY:Summer Solstice Drum & Fire ceremony
DESCRIPTION:\n\n\n\nSolstice Gong Activation +Breath+Movement \n✦ Deep Su
 rrender & Letting Go \n✦ Drum into Meditative Trance \n✦ Connect with 
 the Mother Earth \n✦ Recieve Messages \n\nAn invite to be held by the dr
 umbeat of the Earth\, to root down\, and rise up into higher wisdom\, reme
 mberance. \n\n\nBeloved Bright Ones & Souls\, \n\nWe have been experiencin
 g an accelerated mix of growth\, gestation\, expansion\, contraction\, unb
 ecoming\, becoming.\n\nThe Summer Solstice is a powerful time of activatio
 n\, amplifying the lessons and understandings\, that have illuminated sinc
 e the Equinox.\n\nThis is the most perfect time to fully GROUND into the l
 ight that which you hold.   The time is now to shine\, and TRUST yourself 
 and the radiant perfection within.\n\nYou are enough\, you are loved\, and
  you are perfect as you are\, you deserve to be seen for who you truly are
  - a divine\, whole being\, worthy of grace  and ease\, simply because you
  exist!\n\nThis sacred space invites you to come exactly as you are\; all 
 of you. We love you. \n\n\n\n\n🌀🌀🌀🌀🌀FLOW OF THE EVENING🌀
 🌀🌀🌀\n\n✧ Grounding Meditation + Energy Activation + Movement +B
 reathwork \n✧ Opening Circle (vulnerable & authentic\, intentions) \n✧
  Drum Journey (Guided into a Shamanic Trance\, to connect with the Womb of
  the Mother Earth. Through the Beat of her heart\, we will heal\, integrat
 e\, and receive) \n✧ Closing jam /fire circle \n\n\n.✨️✨️✨️
 ✨️✨️✨️✨️✨️✨️✨️✨️✨️✨️✨️✨️
 ☀️\n\n✦ This journey can bring clarity \n✦ It will help you move\,
  clear\, and transmute dense\, stagnant & heavy emotions & welcome in the 
 light.\n✦ You will remember you are held by so much greater than your eg
 o self\n✦ You will connnect with a community\, kindred souls & like mind
 ed beings\, that may be going through similar experiences a reminder that 
 we are never alone.\n\n¤ The messages you receive will support you onward
 \n¤ A feeling of peace will surround you & the energy will continue to un
 fold and support you for  days\, weeks\, to come. \n\n🪘🪘🪘🪘🪘
 🪘🪘🪘🪘🪘🪘🪘🪘🪘🪘🪘\n\nYou will be engaged in a s
 hamanic drum meditation\, a higher consciousness where wisdom\, healing\, 
 and an understanding of our true self come into being. Shamanic Drumming a
 wakens the capability to commune with the Inner-Self for deeply profound P
 ersonal Growth.  Join us as we create drum rhythms as the sun sets where n
 ature is at its utmost beaut.  Lots of drums and shakers from different cu
 ltures around the world will be available for you to connect with. \n\nPle
 ase bring a chair and anything to help you be comfortable along with an in
 strument for open jam closing.\n\nDrumming is a perfect resource in freein
 g the mind so you can rest\, relax\, and hang out with others . Drumming h
 elps boost the immune system and promote physical healing. Drum therapy en
 courages people to release inner trauma through physical movement and medi
 tative rhythms\, as well as bringing people together.\n\n\nYou are a gift.
  To walk this path together is a gift.\n\n\n​WHEN: \nWednesday June 21st
 \, 6:40pm arrival - \n                              7pm -9pm \n\nWHERE: \n
 Charees home sanctuary & woods\,  exact address given upon registration.\n
 \nWHAT TO BRING: \nA journal\, water bottle\, and any sacred items you'd l
 ike to charge.  Dish\, side or snack to share. \n\n\n✨️ENERGY EXCHANGE
  ✨️\n$44 \n$33 if you bring a friend \n\n\n\nLinks for registration \n
 \nBring a friend 2/$77 \nhttps://app.acuityscheduling.com/schedule.php?own
 er=26887486\n\nSolo 1/$44\n\nhttps://chareejanelle.as.me/?appointmentType=
 48810680\n\n\n\n\n****No one will be turned away for lack of funds\, dm me
 .\n\n♡ Join us\, dear soul.\nIn support of what you've come here to do &
  commitment to knowing thy Self\, cultivating unconditional acceptance of 
 what IS.\nWe are here to hold you. We are here to love you. We are here to
  witness you.\n\n
CATEGORIES:Workshops
END:VEVENT
BEGIN:VTIMEZONE
TZID:America/New_York
X-LIC-LOCATION:America/New_York
BEGIN:DAYLIGHT
DTSTART:20230312T030000
TZOFFSETFROM:-0500
TZOFFSETTO:-0400
TZNAME:EDT
END:DAYLIGHT
END:VTIMEZONE
END:VCALENDAR