BEGIN:VCALENDAR
VERSION:2.0
PRODID:-//wp-events-plugin.com//7.2.3.1//EN
TZID:America/New_York
X-WR-TIMEZONE:America/New_York
BEGIN:VEVENT
UID:238@chareejanelle.com
DTSTART;TZID=America/New_York:20250612T190000
DTEND;TZID=America/New_York:20250612T210000
DTSTAMP:20250610T105735Z
URL:https://chareejanelle.com/events-list/summer-sessions-goddess-reclamat
 ion-w-jamie-withman/
SUMMARY:Summer Sessions- Goddess Reclamation w/Jamie Withman
DESCRIPTION:Goddess Reclamation w/ Jamie Withman\n\n&nbsp\;\n\n&nbsp\;\n\nR
 emembering who we are by activating the Goddess within. Feel deeply the po
 wer that moves through your bones and skin.\n\nHeart Connection Circle\n\n
 Breath Movement &amp\; Sound to clear the channel\n\nActivation Of Shakti\
 n\nPractice Ritual &amp\; Tools to connect w/ Your womb\n\n&nbsp\;\n\nThur
 sday June 12th\, 7pm
ATTACH;FMTTYPE=image/jpeg:https://chareejanelle.com/wp-content/uploads/202
 5/06/Screenshot_20250610_065653_Instagram.jpg
CATEGORIES:GUEST WORKSHOP
END:VEVENT
BEGIN:VTIMEZONE
TZID:America/New_York
X-LIC-LOCATION:America/New_York
BEGIN:DAYLIGHT
DTSTART:20250309T030000
TZOFFSETFROM:-0500
TZOFFSETTO:-0400
TZNAME:EDT
END:DAYLIGHT
END:VTIMEZONE
END:VCALENDAR