BEGIN:VCALENDAR
VERSION:2.0
PRODID:-//wp-events-plugin.com//7.2.3.1//EN
TZID:America/New_York
X-WR-TIMEZONE:America/New_York
BEGIN:VEVENT
UID:243@chareejanelle.com
DTSTART;TZID=America/New_York:20250710T183000
DTEND;TZID=America/New_York:20250710T203000
DTSTAMP:20250711T125935Z
URL:https://chareejanelle.com/events-list/summer-series-at-sanctuary-integ
 rative-breathwork-w-robin-mariani/
SUMMARY:Summer Series at Sanctuary- Integrative Breathwork w/Robin Mariani
DESCRIPTION:Summer Series at Sanctuary- Integrative Shamanic Breathwork w/R
 obin Mariani.\n\n&nbsp\;\n\nIt brings me great JOY to celebrate this beaut
 iful soul!! Robyn is a powerhouse of a woman\, OG at what she brings.  Sh
 e had traveled around the world offering breathwork\, training breathwork 
 &amp\; is a mentor/teacher to many.\n\n&nbsp\;\n\nThis experience will:\n\
 nOpen to a deeper awareness of your highest potential.\n\nDeepen your conn
 ection to your higher self and universal energy\n\nExpand the capacity of 
 your heart to give and receive love\n\nAllow your natural peace and sereni
 ty to return\n\nRelease tension\, fear\, frustration\, and density.\n\nThi
 s sacred ceremony incorporates guided visualization\, transformational Bre
 athwork\, music\, sound\, and energy healing\, Shamanic tools\, and light 
 body expansion techniques to facilitate a personal sacred journey into the
  depth of your own soul and BEYOND! This process provides a safe and lovin
 g space to shine a light on deep-seeded emotional issues\, core wounds\, a
 nd limiting beliefs.\n\nIt offers profound and lasting shifts enabling one
 s radiance to shine through\, positively affecting all areas of life.\n\n
 📅Thursday July 10th\n⏰️ 6:30pm -8:30pm\n\n&nbsp\;\n\nInvestment/Sli
 ding scale\n\nRobin Mariani is on town &amp\; offering her shamanic breath
 work. It brings me great JOY to celebrate this beautiful soul.\nRobyn is a
  powerhouse of a woman\, OG at what she brings!\n\nOpen to a deeper awaren
 ess of your highest potential.\n\nDeepen your connection to your higher se
 lf and universal energy\n\nExpand the capacity of your heart to give and r
 eceive love\n\nAllow your natural peace and serenity to return\n\nRelease 
 tension\, fear\, frustration\, and density.\n\nThis sacred ceremony incorp
 orates guided visualization\, transformational Breathwork\, music\, sound\
 , and energy healing\, Shamanic tools\, and light body expansion technique
 s to facilitate a personal sacred journey into the depth of your own soul 
 and BEYOND! This process provides a safe and loving space to shine a light
  on deep-seeded emotional issues\, core wounds\, and limiting beliefs.\n\n
 It offers profound and lasting shifts enabling ones radiance to shine thro
 ugh\, positively affecting all areas of life.\n\n📅Thursday July 10th\n
 ⏰️ 6:30pm -8:30pm\n\nLocation: The Sanctuary\n123 miracle way morganto
 wn pa 19543\n\nInvestment/Sliding scale\n\n&nbsp\;\n\n&nbsp\;\n\n&nbsp\;\n
 \n&nbsp\;\n\n\n\n&nbsp\;\n\n&nbsp\;\n\n&nbsp\;\n\n
ATTACH;FMTTYPE=image/jpeg:https://chareejanelle.com/wp-content/uploads/202
 5/06/Screenshot_20250624_091941_Facebook.jpg
CATEGORIES:GUEST WORKSHOP,Special guest,Workshops
END:VEVENT
BEGIN:VTIMEZONE
TZID:America/New_York
X-LIC-LOCATION:America/New_York
BEGIN:DAYLIGHT
DTSTART:20250309T030000
TZOFFSETFROM:-0500
TZOFFSETTO:-0400
TZNAME:EDT
END:DAYLIGHT
END:VTIMEZONE
END:VCALENDAR