BEGIN:VCALENDAR
VERSION:2.0
PRODID:-//wp-events-plugin.com//7.2.3.1//EN
TZID:America/New_York
X-WR-TIMEZONE:America/New_York
BEGIN:VEVENT
UID:206@chareejanelle.com
DTSTART;TZID=America/New_York:20241214T100000
DTEND;TZID=America/New_York:20241214T140000
DTSTAMP:20241118T142605Z
URL:https://chareejanelle.com/events-list/spiritual-healing-masterclass-fo
 r-spiritual-partnerships-with-robert-wood-charee-janelle/
SUMMARY:SPIRITUAL HEALING MASTERCLASS FOR SPIRITUAL PARTNERSHIPS with Rober
 t Wood & Charee Janelle~~
DESCRIPTION:SPIRITUAL HEALING MASTERCLASS FOR SPIRITUAL PARTNERSHIPS \nwith
  Robert Wood &amp\; Charee Janelle~~\nBonding through repeating the pain v
 s bonding through repairing the pain is the difference between unhealthy &
 amp\; healthy harmonious holy relationship.\nWhen you enter into relations
 hip from space of needing your partner to fulfill you or be a certain way\
 , such as to make you feel seen\, validated\, wanted or complete\, that re
 lationship needs to go through initiation(s) until it evolves into Sacred 
 Union. Until then it is karmic\, which means it requires some Healing.\nNo
  judgement or right or wrong. It just is.\nAwareness is the first step in 
 the healing process &amp\; transforming the relationship into holiness.\nI
 f you do find yourself desiring higher partnership &amp\; wanting to find 
 harmony in your relationship- perhaps you want to join Practical Applicati
 ons Spiritual Healing Masterclass. Myself Divine Conduit Charee Janelle\, 
 and teaching partner Robert Wood (aka The Wizard)\, founders of ACFSP Adva
 nced Communication For Spiritual Partnership invite you to hoin us for Spi
 ritual Healing MasterClass\, Healing For Spiritual Partnerships on Saturda
 y December\, via zoom\, 10am -2pm.\n-Explore and learn 7 healing technique
 s.\n- Learn Practical Applications to apply in all relationships.\n-4 hour
  masterclass will provide you with tools\, methods &amp\; advanced practic
 es for atonement with your loved ones.\n- Class provides teachings &amp\; 
 real time demonstration &amp\; practice with rapid Transformation.\n-This 
 class is open to everyone.\nRobert Wood has been a spiritual teacher for 3
 5 years in Boulder Co. He is the author of On the Path and The No Loss Rel
 ationship. He has taught the course in miracles for 24 years where the mat
 erial for holy relationships was birthed from. He currently is living in S
 outh Florida where he is currently doing soul readings\, his passion.\nCha
 ree is an incredibly powerful\, dynamic intuitive teacher &amp\; feminine 
 force\, who brings forth divine channeling\, and heart opening activations
 . She is an energy and movement practitioner/ facilitator\, master alchemi
 st &amp\; has been following her souls purpose for over two decades.\n\n-S
 ign up with a partner 2/$80 ( save $$)\n\n-Individual sign up $55 each\n&n
 bsp\;\n\n&nbsp\;\n\n&nbsp\;\n\n&nbsp\;
ATTACH;FMTTYPE=image/jpeg:https://chareejanelle.com/wp-content/uploads/202
 4/11/Screenshot_20241118_091834_WhatsApp.jpg
CATEGORIES:GUEST WORKSHOP,Relationship,Workshops
END:VEVENT
BEGIN:VTIMEZONE
TZID:America/New_York
X-LIC-LOCATION:America/New_York
BEGIN:STANDARD
DTSTART:20241103T010000
TZOFFSETFROM:-0400
TZOFFSETTO:-0500
TZNAME:EST
END:STANDARD
END:VTIMEZONE
END:VCALENDAR