BEGIN:VCALENDAR
VERSION:2.0
PRODID:-//wp-events-plugin.com//7.2.3.1//EN
TZID:America/New_York
X-WR-TIMEZONE:America/New_York
BEGIN:VEVENT
UID:66@chareejanelle.com
DTSTART;TZID=America/New_York:20230531T190000
DTEND;TZID=America/New_York:20230531T201500
DTSTAMP:20230531T124524Z
URL:https://chareejanelle.com/events-list/sound-therapy-sessions-at-ampers
 and/
SUMMARY:Sound Therapy Sessions at Ampersand
DESCRIPTION:
CATEGORIES:Sound
LOCATION:https://www.eventbrite.com/e/sound-therapy-session-with-divine-con
 duit-charee-janelle-tickets-624904886337
END:VEVENT
BEGIN:VTIMEZONE
TZID:America/New_York
X-LIC-LOCATION:America/New_York
BEGIN:DAYLIGHT
DTSTART:20230312T030000
TZOFFSETFROM:-0500
TZOFFSETTO:-0400
TZNAME:EDT
END:DAYLIGHT
END:VTIMEZONE
END:VCALENDAR