BEGIN:VCALENDAR
VERSION:2.0
PRODID:-//wp-events-plugin.com//7.2.3.1//EN
TZID:America/New_York
X-WR-TIMEZONE:America/New_York
BEGIN:VEVENT
UID:72@chareejanelle.com
DTSTART;TZID=America/New_York:20230810T193000
DTEND;TZID=America/New_York:20230810T203000
DTSTAMP:20230721T215014Z
URL:https://chareejanelle.com/events-list/sound-therapy-sessions-at-ampers
 and-2/
SUMMARY:Sound Therapy Sessions at Ampersand
DESCRIPTION:Sound Therapy Sessions at Ampersand\n\n𝗪𝗵𝗮𝘁 𝘁
 𝗼 𝗘𝘅𝗽𝗲𝗰𝘁 𝗗𝘂𝗿𝗶𝗻𝗴 𝗮 𝗦𝗲𝘀
 𝘀𝗶𝗼𝗻:\n\nSo𝘶𝘯𝘥 𝘸𝘢𝘷𝘦𝘴 are created 𝘶
 𝘴𝘪𝘯𝘨 𝘵𝘶𝘯𝘪𝘯𝘨 𝘧𝘰𝘳𝘬𝘴\, 𝘛𝘪
 𝘣𝘦𝘵𝘢𝘯 𝘢𝘯𝘥 𝘤𝘳𝘺𝘴𝘵𝘢𝘭 𝘴𝘪
 𝘯𝘨𝘪𝘯𝘨 𝘣𝘰𝘸𝘭𝘴\, 𝘥𝘳𝘶𝘮𝘴\, 𝘳
 𝘢𝘵𝘵𝘭𝘦𝘴\, chimes\, gongs 𝘢𝘯𝘥 𝘰𝘵𝘩𝘦
 𝘳 sacred 𝘪𝘯𝘴𝘵𝘳𝘶𝘮𝘦𝘯𝘵𝘴 to 𝘣𝘳𝘪
 𝘯𝘨 𝘺𝘰𝘶 𝘪𝘯𝘵𝘰 𝘢 𝘮𝘦𝘥𝘪𝘵𝘢𝘵
 𝘪𝘷𝘦 𝘴𝘵𝘢𝘵𝘦. Sound Therapy Sessions are an e𝘯𝘦
 𝘳𝘨𝘦𝘵𝘪𝘤𝘢𝘭𝘭𝘺 𝘥𝘦𝘭𝘪𝘤𝘪𝘰𝘶
 𝘴 𝘸𝘢𝘺 𝘵𝘰 𝘯𝘶𝘳𝘵𝘶𝘳𝘦 𝘺𝘰𝘶𝘳 
 𝘸𝘦𝘭𝘭-𝘣𝘦𝘪𝘯𝘨 𝘰𝘯 𝘢 𝘷𝘦𝘳𝘺 𝘥
 𝘦𝘦𝘱 𝘭𝘦𝘷𝘦𝘭! During the session brain waves slowly s
 hift from an active state to a meditative dream like state and the sounds 
 and energy bring yoy into a deeper state of consciousness\, opening an opp
 ortunity to unplug from the external and experience inner peace\, relaxati
 on and bliss where profound insights are accessed and emotions &amp\; trau
 mas\, anxiety are eased from immediate cognition.\n\nWithin each of us the
 re is an innate wisdom divine intelligence for what is needed for our mind
 \, body &amp\; spirit.\n\nCome relax\, release &amp\; surrender as we tune
  into the frequency of love\, that which we are.\n\nOnline registration cl
 oses 48 hrs prior.\n\nPlease register at chareejanelle.as.me.\n\nRefer que
 stions or comments via email at info@chareejanelle.com\n\n&nbsp\;\n\nMinim
 um of guest needed-5\n\nMax of guest -8
ATTACH;FMTTYPE=image/jpeg:https://chareejanelle.com/wp-content/uploads/202
 3/07/Screenshot_20230721_173146_Instagram.jpg
CATEGORIES:Sound,Workshops
LOCATION:ampersand Integrative\, 5 Bristol ct\, Wyomissing \, Pa\, United S
 tates
GEO:40.340895;-75.985108
X-APPLE-STRUCTURED-LOCATION;VALUE=URI;X-ADDRESS=5 Bristol ct\, Wyomissing \
 , Pa\, United States;X-APPLE-RADIUS=100;X-TITLE=ampersand Integrative:geo:
 40.340895,-75.985108
END:VEVENT
BEGIN:VTIMEZONE
TZID:America/New_York
X-LIC-LOCATION:America/New_York
BEGIN:DAYLIGHT
DTSTART:20230312T030000
TZOFFSETFROM:-0500
TZOFFSETTO:-0400
TZNAME:EDT
END:DAYLIGHT
END:VTIMEZONE
END:VCALENDAR