BEGIN:VCALENDAR
VERSION:2.0
PRODID:-//wp-events-plugin.com//7.2.3.1//EN
TZID:America/New_York
X-WR-TIMEZONE:America/New_York
BEGIN:VEVENT
UID:357@chareejanelle.com
DTSTART;TZID=America/New_York:20260606T083000
DTEND;TZID=America/New_York:20260607T180000
DTSTAMP:20260415T184529Z
URL:https://chareejanelle.com/events-list/sound-healing-with-tuning-forks-
 chakras-and-acupressure-meridian-therapy/
SUMMARY:Sound Healing with Tuning Forks\, Chakras and Acupressure Meridian 
 Therapy
DESCRIPTION:Sound Healing with Tuning Forks\, Chakras and Acupressure Merid
 ian Therapy\n\n&nbsp\;\n\n&nbsp\;\n\nWHEN: JUNE 6 - 7 \, 2026 / SAT – SU
 N 8:30 – 6:00\n\nCE HOURS: 16 LIVE HOURS . FLORIDA AND NCBTMB APPROVED. 
 PROV. # 279778-00\n\nCOST : $ 310.00 ./ $ 50.00 TO LOCK DOWN YOUR PLACE. P
 RICE INCLUDES A SET OF\n\nTWO TUNING FORKS.\n\n&nbsp\;\n\nWORKSHOP OBJECTI
 VES:\n\nSTUDENTS WILL DEMONSTRATE A SET OF PROTOCOLS USING TUNING FORKS CO
 MBINED\n\nWITH ACUPRESSURE THERAPY AND CHAKRA BALANCING TO ACHIEVE THERAPE
 UTIC\n\nOBJECTIVES. STUDENTS WILL BE INSTRUCTED IN THE SINGLE USE OF TUNIN
 G FORKS\,\n\nACUPRESSURE AND CHAKRA BALANCING\n\n&nbsp\;\n\nINTRODUCTION :
 \n\na. What is SOUND THERAPY BALANCING? The shift away from the classical 
 Newtonian model of\n\nthe body to the modern model of our body/being as a 
 fundamentally energetic and informational\n\nbeing with high-speed communi
 cation channels.\n\nb. What are TUNING FORKS?\n\nc. What is Acupressure Th
 erapy?\n\nd. What is Chakra Balancing?\n\n&nbsp\;\n\nPRACTICE :\n\n1 a. In
 troduction to Tuning Forks\n\nb. How to use a tuning fork\n\nc. Choosing t
 he appropriate color of the\n\ntuner based on the Chakras (Energy Centers)
 \n\nd. What is the intent and goal?\n\n2.⁠ ⁠The system of Body Correla
 tions and its role in choosing the correct approach and body part in heali
 ng\n\n3.⁠ ⁠The role of the Sacred Breath\n\n4.⁠ ⁠Chakra Stone Rela
 xation Techniques with the Tuning Forks. How to release cellular memory an
 d\n\ntrauma in the fascia\n\n5.⁠ ⁠Hands-on Exercises with a partner\n\
 n6.⁠ ⁠Stimulating Nerve Plexuses via Spinous Processes. The “ Lovett
  Brother “ Relationship 6 a. How to\n\nuse the Tuning Forks to stimulate
  the nerve plexuses via the spinous processes\, cranium\, occiput\,\n\nsac
 rum\, and coccyx to enhance an overall sense of well-being.\n\n7.⁠ ⁠Th
 e use of Acupressure points with Tuning forks\n\n&nbsp\;\n\nCONCLUSION: Pu
 tting a whole session together. Assessing and evaluation of treatments\n\n
 &nbsp\;\n\n
LOCATION:School of Miracles\, 1191 shiloh road\, Morgantown \, Pennsylvania
 \, United States
GEO:40.178288;-75.917456
X-APPLE-STRUCTURED-LOCATION;VALUE=URI;X-ADDRESS=1191 shiloh road\, Morganto
 wn \, Pennsylvania\, United States;X-APPLE-RADIUS=100;X-TITLE=School of Mi
 racles:geo:40.178288,-75.917456
END:VEVENT
BEGIN:VTIMEZONE
TZID:America/New_York
X-LIC-LOCATION:America/New_York
BEGIN:DAYLIGHT
DTSTART:20260308T030000
TZOFFSETFROM:-0500
TZOFFSETTO:-0400
TZNAME:EDT
END:DAYLIGHT
END:VTIMEZONE
END:VCALENDAR