BEGIN:VCALENDAR
VERSION:2.0
PRODID:-//wp-events-plugin.com//7.2.3.1//EN
TZID:America/New_York
X-WR-TIMEZONE:America/New_York
BEGIN:VEVENT
UID:77@chareejanelle.com
DTSTART;TZID=America/New_York:20231102T173000
DTEND;TZID=America/New_York:20231102T193000
DTSTAMP:20231025T233710Z
URL:https://chareejanelle.com/events-list/shamanic-drumming-circle-led-by-
 floyd-jones/
SUMMARY:Shamanic Drumming Circle led by Floyd Jones
DESCRIPTION:\n 	\n\nShamanic Drum &amp\; Fire Circle\n\nExperience the magi
 c of shamanic drumming\, healing\, and soulful expression under the night'
 s sky around a fire\, bring hugged by the magical treees.🌕🪘🔥\n\nD
 rum Circle will be Led by Drum Facilitator\, Floyd Joynes from Symphonic H
 armonics\nFire ceremony prayer\, invocation\, ritual\, and intention setti
 ng will be Led by Charee Janelle\, Divine Conduit Miraculous Transformatio
 ns.\n\nExplore drumming techniques and traditional rhythms in the ancient 
 art of drumming. Together\, we'll harness the drum's vibrations to release
  and elevate energies\, reaching a euphoric\, shamanic state. Our blend of
  structured drum expressions and spontaneous improv will unite us all\, be
 coming one with the drum.\n\nBring your drum or instrument and let your so
 ul play freely as we create a sense of community and healing expression. E
 mbrace the transformative power of drumming become one with the moment. Co
 nnected to source ✨✨✨\n\nLimited drums and percussion instruments wi
 ll be provided but feel free to bring your own instrument.\n\nNo experienc
 e is necessary. All are welcome\n\nTier pricing available.\nSelect what al
 igns best for you.\n\n$33-\n\nhttps://chareejanelle.as.me/?appointmentType
 =50314537\n\n$44-\n\nhttps://chareejanelle.as.me/?appointmentType=50314851
 \n\n$55- http://chareejanelle.as.me/?appointmentType=50314537\n\nPlease d
 on't allow finances to keep you from joining us\, if need be please reach 
 out to charee at info@chareejanelle.com\n\n&nbsp\;\n\nAbout Floyd\n\nMeet 
 Floyd\, a multi-dimensional musician\, sound healer\, and reiki master wit
 h a deep connection to the world of drumming. Since 2016\, Floyd's journey
  with drumming has evolved\, and in 2020\, he embraced his calling as a ci
 rcle facilitator.\n\nDrawing from his passion for music\, healing\, and dr
 umming\, Floyd leads transformative drum circles and soulful sound healing
 s that carry a shamanic essence. These experiences have a profound impact\
 , leaving participants feeling reconnected and restored.\n\nFloyd's fascin
 ation with the djembe and African drumming unlocked a powerful pathway to 
 self-healing and energy transformation. In his circles\, he shares this an
 cient wisdom\, guiding others to connect with their inner spirit and unlea
 sh the power of self-healing. It’s both a passion and a sacred duty for 
 him to serve the collective\, uniting communities through the boundless po
 wer of the drum.\n\nJoin Floyd on a journey of self-discovery\, healing\, 
 and unity as he invites you to connect with the spirit within. Let the rhy
 thms of the drum lead you towards empowerment and transformation\, creatin
 g a harmonious and collective experience that transcends time and space. E
 mbrace the restorative power of rhythm\, drumming and community.\n\nWebsit
 e - www.symphonicharmonics.com\n\nFacebook - https://www.facebook.com/floy
 djoynes/\n\nIG - https://www.instagram.com/floydjoynes/\n\n&nbsp\;\n\n&nbs
 p\;\n\n&nbsp\;
ATTACH;FMTTYPE=image/jpeg:https://chareejanelle.com/wp-content/uploads/202
 3/10/FB_IMG_1698265813460.jpg
CATEGORIES:Sound,Workshops
LOCATION:Charee Home Shala\, 1191 shiloh road\, morgantown pa\, Pennsylvani
 a\, 19543\, United States
GEO:40.178621;-75.917988
X-APPLE-STRUCTURED-LOCATION;VALUE=URI;X-ADDRESS=1191 shiloh road\, morganto
 wn pa\, Pennsylvania\, 19543\, United States;X-APPLE-RADIUS=100;X-TITLE=Ch
 aree Home Shala:geo:40.178621,-75.917988
END:VEVENT
BEGIN:VTIMEZONE
TZID:America/New_York
X-LIC-LOCATION:America/New_York
BEGIN:DAYLIGHT
DTSTART:20230312T030000
TZOFFSETFROM:-0500
TZOFFSETTO:-0400
TZNAME:EDT
END:DAYLIGHT
END:VTIMEZONE
END:VCALENDAR