BEGIN:VCALENDAR
VERSION:2.0
PRODID:-//wp-events-plugin.com//7.2.3.1//EN
TZID:America/New_York
X-WR-TIMEZONE:America/New_York
BEGIN:VEVENT
UID:137@chareejanelle.com
DTSTART;TZID=America/New_York:20240601T184500
DTEND;TZID=America/New_York:20240601T210000
DTSTAMP:20240521T170545Z
URL:https://chareejanelle.com/events-list/shamanic-drum-circle-fire-ceremo
 ny-with-harmonic-symphonic-floyd-jones-divine-conduit-charee-janelle/
SUMMARY:Shamanic Drum Circle & Fire Ceremony with Harmonic Symphonic Floyd 
 Jones  & Divine Conduit Charee Janelle
DESCRIPTION:\n\n&nbsp\;\n✨️🪘Shamanic Drum &amp\; Fire Circle🪘✨
 ️\nExperience the magic of shamanic drumming\, fire ceremony\, and soulf
 ul expression under the night skies\, on sacred land\, surrounded by natur
 e's wisdom &amp\; like minded community.\nDrum Circle will be Led by  Mas
 ter Drum Facilitator\, Floyd Joynes of Symphonic Harmonics &amp\; Fire Cer
 emony led by Charee Janelle\nExplore drumming techniques and traditional r
 hythms in the ancient art of drumming. Together\, we'll harness the drum's
  vibrations to release and elevate energies\, reaching a euphoric\, shaman
 ic state. Our blend of structured drum expressions and spontaneous improv 
 will unite us all\, becoming one with the drum.\nBring your drum or instru
 ment and let your soul play freely as we create a sense of community and h
 ealing expression. Embrace the transformational power of drumming become o
 ne with the moment. Connected to source ✨✨✨\nLimited drums and percu
 ssion instruments will be provided but feel free to bring your own instrum
 ent.\nNo experience is necessary. All are welcome!\nTier pricing available
  for this drum &amp\; fire circle. Please select from the following:\n$55\
 , $44\, $33\nPlease don't allow finances to keep you from joining us\, if 
 need be please reach out to charee at info@chareejanelle.com\n&nbsp\;\n\nA
 bout Floyd\n\nMeet Floyd\, a multi-dimensional musician\, sound healer\, a
 nd reiki master with a deep connection to the world of drumming. Since 201
 6\, Floyd's journey with drumming has evolved\, and in 2020\, he embraced 
 his calling as a circle facilitator.\n\nDrawing from his passion for music
 \, healing\, and drumming\, Floyd leads transformational drum circles and 
 soulful sound healing that carry a shamanic essence. These experiences hav
 e a profound impact\, leaving participants feeling reconnected and restore
 d.\n\nFloyd's fascination with the djembe and African drumming unlocked a 
 powerful pathway to self-healing and energy transformation. In his circles
 \, he shares this ancient wisdom\, guiding others to connect with their in
 ner spirit and unleash the power of self-healing. It’s both a passion an
 d a sacred duty for him to serve the collective\, uniting communities thro
 ugh the boundless power of the drum.\n\nJoin Floyd on a journey of self-di
 scovery\, healing\, and unity as he invites you to connect with the spirit
  within. Let the rhythms of the drum lead you towards empowerment and tran
 sformation\, creating a harmonious and collective experience that transcen
 ds time and space. Embrace the restorative power of rhythm\, drumming and 
 community.\n\nWebsite - www.symphonicharmonics.com\n\nFacebook - https://w
 ww.facebook.com/floydjoynes/\n\nIG - https://www.instagram.com/floydjoynes
 /\n\n&nbsp\;\n\nTicket -$55\n\nhttps://chareejanelle.as.me/drum33\n\n&nbsp
 \;\n\nTicket -$44\n\nhttps://chareejanelle.as.me/?appointmentType=50314851
  \n\n&nbsp\;\n\nTicket $33\n\nhttp:// https://chareejanelle.as.me/drum33\n
 \n&nbsp\;\n\n&nbsp\;\n\nAlso\, may submit $ via vemno @MiraculousEnterpris
 es ( include your name an email)\n\n&nbsp\;
ATTACH;FMTTYPE=image/jpeg:https://chareejanelle.com/wp-content/uploads/202
 4/03/Screenshot_20240513_084341_Facebook.jpg
CATEGORIES:Special guest
LOCATION:Charee Home Shala\, 1191 shiloh road\, morgantown pa\, Pennsylvani
 a\, 19543\, United States
GEO:40.178621;-75.917988
X-APPLE-STRUCTURED-LOCATION;VALUE=URI;X-ADDRESS=1191 shiloh road\, morganto
 wn pa\, Pennsylvania\, 19543\, United States;X-APPLE-RADIUS=100;X-TITLE=Ch
 aree Home Shala:geo:40.178621,-75.917988
END:VEVENT
BEGIN:VTIMEZONE
TZID:America/New_York
X-LIC-LOCATION:America/New_York
BEGIN:DAYLIGHT
DTSTART:20240310T030000
TZOFFSETFROM:-0500
TZOFFSETTO:-0400
TZNAME:EDT
END:DAYLIGHT
END:VTIMEZONE
END:VCALENDAR