BEGIN:VCALENDAR
VERSION:2.0
PRODID:-//wp-events-plugin.com//7.2.3.1//EN
TZID:America/New_York
X-WR-TIMEZONE:America/New_York
BEGIN:VEVENT
UID:218@chareejanelle.com
DTSTART;TZID=America/New_York:20250222T183000
DTEND;TZID=America/New_York:20250222T203000
DTSTAMP:20250220T015754Z
URL:https://chareejanelle.com/events-list/sensual-serpent-%f0%9f%90%8dawak
 en-activate-shakti-kundalini/
SUMMARY:Sensual Serpent 🐍Awaken & Activate Shakti ( kundalini)
DESCRIPTION:&nbsp\;\n\n&nbsp\;\n\n&nbsp\;\n\n&nbsp\;\n\n&nbsp\;\n\n&nbsp\;\
 n\n&nbsp\;\n\n&nbsp\;\n\n&nbsp\;\n\n&nbsp\;\n\n&nbsp\;\n\n&nbsp\;\n\n&nbsp
 \;\n\n&nbsp\;\n\n&nbsp\;\n\n&nbsp\;\n\n&nbsp\;\n\n&nbsp\;\n\n&nbsp\;\n\n&n
 bsp\;\n                 This is the year of the snake.       
              The serpent is whispering in your ear\,  come with me-
  shed the skin of who you were\, step into the untamed uninhabited essence
  of who you are becoming.         Your body holds ancient wisdom\, sh
 e is waiting to be (re)awakened...shakti unfurled iyour holy primordial li
 fe-force energy that is deeply coiled at the base of your being Together i
 n sisterhood we (re) awaken &amp\; fully feel the potent spiral rippling t
 hroughout thy body /vessel/mind/heart &amp\; being. Unbecoming to become. 
 embodying thy sacred sensual sovereign powerful self.              
                 Calling all Women\, sisters\, goddess\, priestesse
 s.......the time is now\, what are you waiting for? Shed those skins\, pee
 l away masks\, dearmour the heart - let go of what does not serve. AWAKEN 
 &amp\; ACTIVATE your kundalini/skakti\, sensual pure true nature\, deepen 
 your connection to your feminine power\, innate wisdom &amp\; intuition. T
 his sacred space supports you in owning your deepest longing\, hearts desi
 res\, EMBODY your truth. Speak outloud\, share your voice. Please bring a 
 small journal and pen\, pillow or meditation cushion\, a temple/ritual typ
 e of blanket\, drum/rattle or sacred instrument to use\, item(s) for the a
 ltar &amp\; select attire that embraces your sensual\, radiant\, feminine 
 nature that is easy to move your beautiful body in. Come with willingness 
 to open thy heart\, be seen\, be heard\, be witnessed\, be loved\, and tru
 sting in the process and the power of the snake. 🐍🔥           
                   Registration required: Energy Exchange   $88 
 Reserve your spot now as space is limited to 12 in order to contain high v
 ibe intimate container.  Questions can be sent via email to Charee info@c
 hareejanelle.com \n&nbsp\;\n\n&nbsp\;\n\n\n\n&nbsp\;\n\n&nbsp\;\n\n&nbsp\
 ;\n\n&nbsp\;\n\n&nbsp\;\n\n&nbsp\;\n\n&nbsp\;\n\n&nbsp\;\n\n&nbsp\;\n\n&nb
 sp\;\n\n&nbsp\;\n\n&nbsp\;\n\n&nbsp\;\n\n&nbsp\;\n\n&nbsp\;
ATTACH;FMTTYPE=image/jpeg:https://chareejanelle.com/wp-content/uploads/202
 5/02/Screenshot_20250215_091405_Instagram.jpg
CATEGORIES:Workshops
LOCATION:enchanted Elements Apothecary\, High street \, Pottstown \, United
  States
GEO:39.95702;-75.200858
X-APPLE-STRUCTURED-LOCATION;VALUE=URI;X-ADDRESS=High street \, Pottstown \,
  United States;X-APPLE-RADIUS=100;X-TITLE=enchanted Elements Apothecary:ge
 o:39.95702,-75.200858
END:VEVENT
BEGIN:VTIMEZONE
TZID:America/New_York
X-LIC-LOCATION:America/New_York
BEGIN:STANDARD
DTSTART:20241103T010000
TZOFFSETFROM:-0400
TZOFFSETTO:-0500
TZNAME:EST
END:STANDARD
END:VTIMEZONE
END:VCALENDAR