BEGIN:VCALENDAR
VERSION:2.0
PRODID:-//wp-events-plugin.com//7.2.3.1//EN
TZID:America/New_York
X-WR-TIMEZONE:America/New_York
BEGIN:VEVENT
UID:285@chareejanelle.com
DTSTART;TZID=America/New_York:20251123T090000
DTEND;TZID=America/New_York:20251123T143000
DTSTAMP:20251112T154210Z
URL:https://chareejanelle.com/events-list/sacred-sundays/
SUMMARY:Sacred Sundays November
DESCRIPTION:Sacred Sundays\nA Sanctuary for Community\, Miracles &amp\; Spi
 ritual Practice\n\nA space to open the mind &amp\; heart\, and return to d
 ivinity\n\n&nbsp\;\n\n\n\nSomatic Heart Awakening Yoga &amp\; Breath \n\n
 9:15am - 10:15am \n\n&nbsp\;\n\nThis one-hour class blends gentle yoga\, 
 somatic movement\, and conscious breathwork to open the heart\, release te
 nsion\, and awaken your innate vitality. Through flowing postures\, heart-
 centered breath\, and embodied presence\, you’ll reconnect to yourself a
 nd the collective energy of the community. Sacred Sundays is a space to no
 urish your body\, expand your consciousness\, and remember the miracles th
 at live within and around you. All levels are welcome.\n\nSliding Scale En
 ergy Exchange  $25- $55\n\n&nbsp\;\n\n\n\nMiracles\, Meditation &amp\; Te
 a Weaving \n\n10:30am -11:30am \n\n&nbsp\;\n\nThis one-hour Together we 
 remember\, only love is real.\n\ncommunity gathering space that gently wea
 ves together:\n\n&nbsp\;\n\nA Course in Miracles (ACIM) wisdom\n\n&nbsp\;\
 n\nTea as a sacred ceremony\n\n&nbsp\;\n\nSimple but potent meditation pra
 ctices\n\n&nbsp\;\n\nRitual\, reflections\, and holy dialogue\n\n&nbsp\;\n
 \nThis cocreative community space invites you to soften\, open the mind &a
 mp\; allow thy heart to speak.\n\nWho It’s For\n\nThis space is for you 
 if you:\n\nCrave stillness but resist sitting alone\n\nAre curious about A
 CIM or deepening your study through embodied practice\n\nFeel overwhelmed 
 by the world and need refuge\n\nAre a mystic\, healer\, guide\, or seeker 
 ready to rest in God\n\nWant to connect with others walking the path of lo
 ve\, remembrance\, and inner peace\n\nSeeking spiritual community\n\nWhat 
 You’ll Receive\n\nEach gathering includes\n\nIntentional Tea Ritual – 
 anchoring presence with each sip\n\nACIM Reflection" one core idea or less
 on brought into heart &amp\; body\n\nGuided Meditation : breath\, body sca
 n\, heart coherence\, or holy instant anchoring\n\nJournaling or Creative 
 Expression\n\nSacred Sharing Circle ( optional\, but powerful)\n\nClosing 
 Blessing + Group Prayer\n\nAll levels are welcome. All of you is welcomed.
 \n\nMiracles Are Your Birthright\n\n&nbsp\;\n\nSliding Scale Energy Exchan
 ge  $25- $55\n\n&nbsp\;\n\n\n\n&nbsp\;\n\nREIKI SHARE HEALING CIRCLE + PO
 TLUCK\n\n( Practitioners only ) \n\n12:30pm -2:30pm \n\n&nbsp\;\n\n&nbsp
 \;\n\n&nbsp\;\n\nReiki Share Healing Circle is a sacred space for the heal
 ers to give &amp\; receive.\n\nThis cocreative heart centered container le
 d by Charee Janelle ( Neela) or another miraculous practioner is an invita
 tion to surrender\, breathe &amp\; fill your cup. Connect with other pract
 icioners ( all lineages) feel heard\, seen\, held\, supported &amp\; loved
 .\n\n&nbsp\;\n\nSliding Scale Energy Exchange  $25- $55\n\n&nbsp\;\n\nLOC
 ATION:\n\nSchool Of Miracles Sanctuary For Transformation\n\nPrivate locat
 ion nestled in the woods\n\nBerks cty Morgantown PA\n\n&nbsp\;\n\nOTHER DE
 TAILS\n\nA confirmation email will be sent to all whom registered with add
 ress and additional information\n\nSacred Sundays is a heart-centered sanc
 tuary for community\, miracles\, and spiritual practice. To honor all who 
 feel called to join\, we offer sliding scale pricing  what feels aligned 
 to you within the suggested love off fee of $25–$55/offering.  This can
  be submitted via butterfly scholarship fund.\n\nThe universe loves to giv
 e back when it receives.\n\nSliding Scale Energy Exchange  $25- $55\n\n&n
 bsp\;\n\n&nbsp\;\n\n\n\n&nbsp\;\n\nEvery contribution nourishes the space\
 , the collective and the divine feminine essence. The Universe loves to gi
 ve and receive.  The more it receives the more it gives back.!!\n\nReach 
 out to Charee and someone from team will assist you with any questions\n\n
 &nbsp\;\n\nInfo@chareejanelle.com\n\n&nbsp\;\n\n610 463 4051\n\n&nbsp\;\n\
 n&nbsp\;\n\n&nbsp\;\n\n&nbsp\;
ATTACH;FMTTYPE=image/jpeg:https://chareejanelle.com/wp-content/uploads/202
 5/10/Sacred-Sundays.jpg
CATEGORIES:ACIM - A Course In Miracles,Reiki,Sunday,Yoga
LOCATION:School of Miracles\, 123 miracle way \, Morgantown \, Pennsylvania
 \, United States
GEO:40.155285;-75.889941
X-APPLE-STRUCTURED-LOCATION;VALUE=URI;X-ADDRESS=123 miracle way \, Morganto
 wn \, Pennsylvania\, United States;X-APPLE-RADIUS=100;X-TITLE=School of Mi
 racles:geo:40.155285,-75.889941
END:VEVENT
BEGIN:VTIMEZONE
TZID:America/New_York
X-LIC-LOCATION:America/New_York
BEGIN:STANDARD
DTSTART:20251102T010000
TZOFFSETFROM:-0400
TZOFFSETTO:-0500
TZNAME:EST
END:STANDARD
END:VTIMEZONE
END:VCALENDAR