BEGIN:VCALENDAR
VERSION:2.0
PRODID:-//wp-events-plugin.com//7.2.3.1//EN
TZID:America/New_York
X-WR-TIMEZONE:America/New_York
BEGIN:VEVENT
UID:325@chareejanelle.com
DTSTART;TZID=America/New_York:20260118T090000
DTEND;TZID=America/New_York:20260118T100000
DTSTAMP:20260112T011047Z
URL:https://chareejanelle.com/events-list/sacred-sundays-somatic-heart-awa
 kening-yoga-breath/
SUMMARY:Sacred Sundays 9am  Somatic Heart Awakening Yoga & Breath
DESCRIPTION:Sacred Sundays\nA Sanctuary for Community\, Miracles &amp\; Spi
 ritual Practice\n\nA space to open the mind &amp\; heart\, and return to d
 ivinity\n\n&nbsp\;\n\n\n\nSomatic Heart Awakening Yoga &amp\; Breath \n\n
 9:15am - 10:15am \n\n&nbsp\;\n\nThis one-hour class blends gentle yoga\, 
 somatic movement\, and conscious breathwork to open the heart\, release te
 nsion\, and awaken your innate vitality. Through flowing postures\, heart-
 centered breath\, and embodied presence\, you’ll reconnect to yourself a
 nd the collective energy of the community. Sacred Sundays is a space to no
 urish your body\, expand your consciousness\, and remember the miracles th
 at live within and around you. All levels are welcome.\n\nSliding Scale En
 ergy Exchange  $25- $55\n\n&nbsp\;\n\n&nbsp\;\n\n&nbsp\;\n\n\n\n&nbsp\;\n
 \nEvery contribution nourishes the space\, the collective and the divine f
 eminine essence. The Universe loves to give and receive.  The more it rec
 eives the more it gives back.!!\n\nReach out to Charee and someone from te
 am will assist you with any questions\n\n&nbsp\;\n\nInfo@chareejanelle.com
 \n\n&nbsp\;\n\n610 463 4051\n\n&nbsp\;\n\n&nbsp\;\n\n&nbsp\;\n\n&nbsp\;
ATTACH;FMTTYPE=image/jpeg:https://chareejanelle.com/wp-content/uploads/202
 6/01/Jan-18-Somatic-Heart.png
CATEGORIES:ACIM - A Course In Miracles,Reiki,Sunday,Yoga
LOCATION:School of Miracles\, 123 miracle way \, Morgantown \, Pennsylvania
 \, United States
GEO:40.155285;-75.889941
X-APPLE-STRUCTURED-LOCATION;VALUE=URI;X-ADDRESS=123 miracle way \, Morganto
 wn \, Pennsylvania\, United States;X-APPLE-RADIUS=100;X-TITLE=School of Mi
 racles:geo:40.155285,-75.889941
END:VEVENT
BEGIN:VTIMEZONE
TZID:America/New_York
X-LIC-LOCATION:America/New_York
BEGIN:STANDARD
DTSTART:20251102T010000
TZOFFSETFROM:-0400
TZOFFSETTO:-0500
TZNAME:EST
END:STANDARD
END:VTIMEZONE
END:VCALENDAR