BEGIN:VCALENDAR
VERSION:2.0
PRODID:-//wp-events-plugin.com//7.2.3.1//EN
TZID:America/New_York
X-WR-TIMEZONE:America/New_York
BEGIN:VEVENT
UID:267@chareejanelle.com
DTSTART;TZID=America/New_York:20250921T123000
DTEND;TZID=America/New_York:20250921T143000
DTSTAMP:20250918T140407Z
URL:https://chareejanelle.com/events-list/sacred-sundays-community-reiki-s
 hare-potluck/
SUMMARY:SACRED SUNDAYS Community Reiki Share + Potluck
DESCRIPTION:Hello beautiful souls.\nIt's that time.\n\nAre you a Reiki prac
 titioner who is in need of self-care? Are you looking to connect with othe
 r like minded heart centered healers?\nEveryone will have the opportunity 
 to both give &amp\; receive Reiki.\nLet us support eachother in filling fi
 rst our own cup &amp\; sharing &amp\; supporting each in their own journey
  &amp\; giving support &amp\; love along the way.\nThis gathering invites 
 you to be loving and accepting of each owns individual experience and an o
 pportunity to energize\, uplift\, inspire\, empower &amp\; support one ano
 ther.\n\n🤍Online Registration closes 48 hrs prior\n\n🤍Please registe
 r ( instructions below)\n\n🤍Water\, tea &amp\; coffee provided\n\n🤍 
 Please bring an open heart &amp\; open mind &amp\; a healthy dish to share
 \n\n🤍Address will be given once registered &amp\; you will be added to 
 WhatsApp group\n\n📆Sunday September 21st\n⏰️12:30 pm -2:30pm\n\nHow
  Do I Register?\n\n🦋Please make your love donation via butterfly schola
 rship fund 🦋🦋\n\n🦋In the NOTE section include your full name\, em
 ail and phone #\, "reiki share"\n\n&nbsp\;\n\n~🦋There is a drop down bu
 tton for the butterfly scholarship fund. You can enter any amount you want
  to donate towards the fund.\n\n~🦋 You will receive a link for whatsapp
  please join\n\n&nbsp\;\n\n\n\nYour contribution is very much appreciated 
 &amp\; goes back into tbe community to help support provide healing &amp\;
  transformational services.\n\n&nbsp\;\n\n&nbsp\;\n\n&nbsp\;\n\n&nbsp\;\n\
 nThank you!\n\nMiraculous Transformations Are Your Birthright!!\n\nBlessin
 gs\,\n\nCharee
ATTACH;FMTTYPE=image/jpeg:https://chareejanelle.com/wp-content/uploads/202
 3/12/Screenshot_20231215_023620_Gallery-1.jpg
CATEGORIES:Reiki
LOCATION:charee home sanctuary\, 123 miracle way \, Morgantown \, Pa\, 1954
 3\, United States
GEO:40.155285;-75.889941
X-APPLE-STRUCTURED-LOCATION;VALUE=URI;X-ADDRESS=123 miracle way \, Morganto
 wn \, Pa\, 19543\, United States;X-APPLE-RADIUS=100;X-TITLE=charee home sa
 nctuary:geo:40.155285,-75.889941
END:VEVENT
BEGIN:VTIMEZONE
TZID:America/New_York
X-LIC-LOCATION:America/New_York
BEGIN:DAYLIGHT
DTSTART:20250309T030000
TZOFFSETFROM:-0500
TZOFFSETTO:-0400
TZNAME:EDT
END:DAYLIGHT
END:VTIMEZONE
END:VCALENDAR