BEGIN:VCALENDAR
VERSION:2.0
PRODID:-//wp-events-plugin.com//7.2.3.1//EN
TZID:America/New_York
X-WR-TIMEZONE:America/New_York
BEGIN:VEVENT
UID:359@chareejanelle.com
DTSTART;TZID=America/New_York:20260426T090000
DTEND;TZID=America/New_York:20260426T100000
DTSTAMP:20260415T183933Z
URL:https://chareejanelle.com/events-list/sacred-sundays-9am-somatic-heart
 -awakening-yoga-breath-3/
SUMMARY:Sacred Sundays 9am  Somatic Heart Awakening Yoga & Breath
DESCRIPTION:Sacred Sundays\nA Sanctuary for Community\, Miracles &amp\; Spi
 ritual Practice\n\nA space to open the mind &amp\; heart\, and return to d
 ivinity\n\n&nbsp\;\n\n\n\nSomatic Heart Awakening Yoga &amp\; Breath \n\n
 9:15am - 10:15am \n\n&nbsp\;\n\nThis one-hour class blends gentle yoga\, 
 somatic movement\, and conscious breathwork to open the heart\, release te
 nsion\, and awaken your innate vitality. Through flowing postures\, heart-
 centered breath\, and embodied presence\, you’ll reconnect to yourself a
 nd the collective energy of the community. Sacred Sundays is a space to no
 urish your body\, expand your consciousness\, and remember the miracles th
 at live within and around you. All levels are welcome.\n\nSliding Scale En
 ergy Exchange  $25- $55\n\n&nbsp\;\n\n&nbsp\;\n\n&nbsp\;\n\n\n\n&nbsp\;\n
 \nEvery contribution nourishes the space\, the collective and the divine f
 eminine essence. The Universe loves to give and receive.  The more it rec
 eives the more it gives back.!!\n\nReach out to Charee and someone from te
 am will assist you with any questions\n\n&nbsp\;\n\nInfo@chareejanelle.com
 \n\n&nbsp\;\n\n610 463 4051\n\n&nbsp\;\n\n&nbsp\;\n\n&nbsp\;\n\n&nbsp\;
ATTACH;FMTTYPE=image/jpeg:https://chareejanelle.com/wp-content/uploads/202
 6/04/Apr-26-Somatic-Heart.png
CATEGORIES:ACIM - A Course In Miracles,Reiki,Sunday,Yoga
LOCATION:School of Miracles\, 1191 shiloh road\, Morgantown \, Pennsylvania
 \, United States
GEO:40.178288;-75.917456
X-APPLE-STRUCTURED-LOCATION;VALUE=URI;X-ADDRESS=1191 shiloh road\, Morganto
 wn \, Pennsylvania\, United States;X-APPLE-RADIUS=100;X-TITLE=School of Mi
 racles:geo:40.178288,-75.917456
END:VEVENT
BEGIN:VTIMEZONE
TZID:America/New_York
X-LIC-LOCATION:America/New_York
BEGIN:DAYLIGHT
DTSTART:20260308T030000
TZOFFSETFROM:-0500
TZOFFSETTO:-0400
TZNAME:EDT
END:DAYLIGHT
END:VTIMEZONE
END:VCALENDAR