BEGIN:VCALENDAR
VERSION:2.0
PRODID:-//wp-events-plugin.com//7.2.3.1//EN
TZID:America/New_York
X-WR-TIMEZONE:America/New_York
BEGIN:VEVENT
UID:361@chareejanelle.com
DTSTART;TZID=America/New_York:20260426T120000
DTEND;TZID=America/New_York:20260426T140000
DTSTAMP:20260415T184413Z
URL:https://chareejanelle.com/events-list/sacred-sundays-1230-230pm-reiki-
 share-for-practicioners-3/
SUMMARY:Sacred Sundays 1200-200pm  Reiki Share For Practicioners
DESCRIPTION:Sacred Sundays\nA Sanctuary for Community\, Miracles &amp\; Spi
 ritual Practice\n\nA space to open the mind &amp\; heart\, and return to d
 ivinity\n\n&nbsp\;\n\n\n\n&nbsp\;\n\nREIKI SHARE HEALING CIRCLE \n\n( Pra
 ctitioners only ) \n\n12:30pm -2:30pm \n\n&nbsp\;\n\n&nbsp\;\n\n&nbsp\;\
 n\nReiki Share Healing Circle is a sacred space for the healers to give &a
 mp\; receive.\n\nThis co-creative\, heart-centered container\, led by Char
 ee Janelle (Neela) or another miraculous practitioner\, is an invitation t
 o surrender\, breathe &amp\; fill your cup. Connect with other practicione
 rs ( all lineages) feel heard\, seen\, held\, supported &amp\; loved.\n\n&
 nbsp\;\n\nSliding Scale Energy Exchange  $25- $55\n\n&nbsp\;\n\nLOCATION:
 \n\nSchool Of Miracles Sanctuary For Transformation\n\nPrivate location ne
 stled in the woods\n\nBerks cty Morgantown PA\n\n&nbsp\;\n\nOTHER DETAILS\
 n\nA confirmation email will be sent to all whom registered with address a
 nd additional information\n\nSacred Sundays is a heart-centered sanctuary 
 for community\, miracles\, and spiritual practice. To honor all who feel c
 alled to join\, we offer sliding scale pricing  what feels aligned to you
  within the suggested love off fee of $25–$55/offering.  This can be su
 bmitted via butterfly scholarship fund.\n\nThe universe loves to give back
  when it receives.\n\nSliding Scale Energy Exchange  $25- $55\n\n&nbsp\;\
 n\n&nbsp\;\n\n\n\n&nbsp\;\n\nEvery contribution nourishes the space\, the 
 collective and the divine feminine essence. The Universe loves to give and
  receive.  The more it receives the more it gives back.!!\n\nReach out to
  Charee and someone from team will assist you with any questions\n\n&nbsp\
 ;\n\nInfo@chareejanelle.com\n\n&nbsp\;\n\n610 463 4051\n\n&nbsp\;\n\n&nbsp
 \;\n\n&nbsp\;\n\n&nbsp\;
ATTACH;FMTTYPE=image/jpeg:https://chareejanelle.com/wp-content/uploads/202
 6/04/Apr-26-Reiki-Share.png
CATEGORIES:ACIM - A Course In Miracles,Reiki,Sunday,Yoga
LOCATION:School of Miracles\, 1191 shiloh road\, Morgantown \, Pennsylvania
 \, United States
GEO:40.178288;-75.917456
X-APPLE-STRUCTURED-LOCATION;VALUE=URI;X-ADDRESS=1191 shiloh road\, Morganto
 wn \, Pennsylvania\, United States;X-APPLE-RADIUS=100;X-TITLE=School of Mi
 racles:geo:40.178288,-75.917456
END:VEVENT
BEGIN:VTIMEZONE
TZID:America/New_York
X-LIC-LOCATION:America/New_York
BEGIN:DAYLIGHT
DTSTART:20260308T030000
TZOFFSETFROM:-0500
TZOFFSETTO:-0400
TZNAME:EDT
END:DAYLIGHT
END:VTIMEZONE
END:VCALENDAR