BEGIN:VCALENDAR
VERSION:2.0
PRODID:-//wp-events-plugin.com//7.2.3.1//EN
TZID:America/New_York
X-WR-TIMEZONE:America/New_York
BEGIN:VEVENT
UID:339@chareejanelle.com
DTSTART;TZID=America/New_York:20260222T103000
DTEND;TZID=America/New_York:20260222T113000
DTSTAMP:20260208T061622Z
URL:https://chareejanelle.com/events-list/sacred-sundays-1030am-miracles-m
 editation-tea-weaving/
SUMMARY:Sacred Sundays 1030am  Miracles meditation & Tea Weaving
DESCRIPTION:Sacred Sundays\nA Sanctuary for Community\, Miracles &amp\; Spi
 ritual Practice\n\nA space to open the mind &amp\; heart\, and return to d
 ivinity\n\n&nbsp\;\n\n\n\nMiracles\, Meditation &amp\; Tea Weaving \n\n10
 :30am -11:30am \n\n&nbsp\;\n\nThis one-hour Together we remember\, only l
 ove is real.\n\ncommunity gathering space that gently weaves together:\n\n
 &nbsp\;\n\nA Course in Miracles (ACIM) wisdom\n\n&nbsp\;\n\nTea as a sacre
 d ceremony\n\n&nbsp\;\n\nSimple but potent meditation practices\n\n&nbsp\;
 \n\nRitual\, reflections\, and holy dialogue\n\n&nbsp\;\n\nThis cocreative
  community space invites you to soften\, open the mind &amp\; allow thy he
 art to speak.\n\nWho It’s For\n\nThis space is for you if you:\n\nCrave 
 stillness but resist sitting alone\n\nAre curious about ACIM or deepening 
 your study through embodied practice\n\nFeel overwhelmed by the world and 
 need refuge\n\nAre a mystic\, healer\, guide\, or seeker ready to rest in 
 God\n\nWant to connect with others walking the path of love\, remembrance\
 , and inner peace\n\nSeeking spiritual community\n\nWhat You’ll Receive\
 n\nEach gathering includes\n\nIntentional Tea Ritual – anchoring presenc
 e with each sip\n\nACIM Reflection" one core idea or lesson brought into h
 eart &amp\; body\n\nGuided Meditation : breath\, body scan\, heart coheren
 ce\, or holy instant anchoring\n\nJournaling or Creative Expression\n\nSac
 red Sharing Circle ( optional\, but powerful)\n\nClosing Blessing + Group 
 Prayer\n\nAll levels are welcome. All of you is welcomed.\n\nMiracles Are 
 Your Birthright\n\n&nbsp\;\n\nSliding Scale Energy Exchange  $25- $55\n\n
 &nbsp\;\n\n&nbsp\;\n\nLOCATION:\n\nSchool Of Miracles Sanctuary For Transf
 ormation\n\nPrivate location nestled in the woods\n\nBerks County Morganto
 wn\, PA\n\n&nbsp\;\n\nOTHER DETAILS\n\nA confirmation email will be sent t
 o all whom registered with address and additional information\n\nSacred Su
 ndays is a heart-centered sanctuary for community\, miracles\, and spiritu
 al practice. To honor all who feel called to join\, we offer sliding scale
  pricing  what feels aligned to you within the suggested love off fee of 
 $25–$55/offering.  This can be submitted via butterfly scholarship fund
 .\n\nThe universe loves to give back when it receives.\n\nSliding Scale En
 ergy Exchange  $25- $55\n\n&nbsp\;\n\n&nbsp\;\n\n\n\n&nbsp\;\n\nEvery con
 tribution nourishes the space\, the collective and the divine feminine ess
 ence. The Universe loves to give and receive.  The more it receives the m
 ore it gives back.!!\n\nReach out to Charee and someone from team will ass
 ist you with any questions\n\n&nbsp\;\n\nInfo@chareejanelle.com\n\n&nbsp\;
 \n\n610 463 4051\n\n&nbsp\;\n\n&nbsp\;\n\n&nbsp\;\n\n&nbsp\;
ATTACH;FMTTYPE=image/jpeg:https://chareejanelle.com/wp-content/uploads/202
 6/01/Feb-22-Miracles-Meditation.png
CATEGORIES:ACIM - A Course In Miracles,Reiki,Sunday,Yoga
LOCATION:School of Miracles\, 123 miracle way \, Morgantown \, Pennsylvania
 \, United States
GEO:40.155285;-75.889941
X-APPLE-STRUCTURED-LOCATION;VALUE=URI;X-ADDRESS=123 miracle way \, Morganto
 wn \, Pennsylvania\, United States;X-APPLE-RADIUS=100;X-TITLE=School of Mi
 racles:geo:40.155285,-75.889941
END:VEVENT
BEGIN:VTIMEZONE
TZID:America/New_York
X-LIC-LOCATION:America/New_York
BEGIN:STANDARD
DTSTART:20251102T010000
TZOFFSETFROM:-0400
TZOFFSETTO:-0500
TZNAME:EST
END:STANDARD
END:VTIMEZONE
END:VCALENDAR