BEGIN:VCALENDAR
VERSION:2.0
PRODID:-//wp-events-plugin.com//7.2.3.1//EN
TZID:America/New_York
X-WR-TIMEZONE:America/New_York
BEGIN:VEVENT
UID:170@chareejanelle.com
DTSTART;TZID=America/New_York:20240823T190000
DTEND;TZID=America/New_York:20240823T210000
DTSTAMP:20240823T115314Z
URL:https://chareejanelle.com/events-list/sacred-fire-drum-circle-w-charee
 -floyd/
SUMMARY:SACRED FIRE /DRUM CIRCLE W/CHAREE & FLOYD
DESCRIPTION:Fire Ceremony\, Energy Clearing &amp\; Drum Circle\n☀️🕉
 🔥🥁🪘\n\n✦ Energy Clearing+Breath+Movement\n✦ Deep Surrender &a
 mp\; Letting Go\n✦ Drum into Meditative Trance\n✦ Connect with the Mot
 her Earth\n✦ Receive Messages\n\nAn invite to be held by the drumbeat of
  the Earth\, to root down\, and rise up into higher wisdom\, rememberance.
 \n\nBeloved Bright Ones &amp\; Souls\,\n\nWe have been experiencing an acc
 elerated mix of growth\, gestation\, expansion\, contraction\, unbecoming\
 , becoming.\n\nThis is a powerful time of activation\, amplifying the less
 ons and understandings\n\nThis is the most perfect time to fully GROUND in
 to the light that which you hold. The time is now to shine\, and TRUST you
 rself and the radiant perfection within.\n\nYou are enough\, you are loved
 \, and you are perfect as you are\, you deserve to be seen for who you tru
 ly are - a divine\, whole being\, worthy of grace and ease\, simply becaus
 e you exist!\n\nThis sacred space invites you to come exactly as you are\;
  all of you. We love you.\n\n&nbsp\;\n\n🌀🌀🌀🌀FLOW OF THE EVENIN
 G🌀🌀🌀\n\n✧ Grounding Meditation + Energy Activation + Movement +
 Breathwork\n✧ Opening Circle (vulnerable &amp\; authentic\, intentions)\
 n✧ Drum Journey (Guided into a Shamanic Trance\, to connect with the Wom
 b of the Mother Earth. Through the Beat of her heart\, we will heal\, inte
 grate\, and receive)\n✧ Closing jam /fire circle\n\n.✨️✨️✨️
 ✨️✨️✨️✨️✨️✨️✨️✨️✨️✨️✨️✨️
 ☀️\n\n✦ This journey can bring clarity\n✦ It will help you move\, 
 clear\, and transmute dense\, stagnant &amp\; heavy emotions &amp\; welcom
 e in the light.\n✦ You will remember you are held by so much greater tha
 n your ego self\n✦ You will connnect with a community\, kindred souls &a
 mp\; like minded beings\, that may be going through similar experiences a 
 reminder that we are never alone.\n\n¤ The messages you receive will supp
 ort you onward\n¤ A feeling of peace will surround you &amp\; the energy 
 will continue to unfold and support you for days\, weeks\, to come.\n\n
 🪘🪘🪘🪘🪘🪘🪘🪘🪘🪘🪘🪘🪘🪘🪘🪘\n\nYou wi
 ll be engaged in a shamanic drum meditation\, a higher consciousness where
  wisdom\, healing\, and an understanding of our true self come into being.
  Shamanic Drumming awakens the capability to commune with the Inner-Self f
 or deeply profound Personal Growth. Join us as we create drum rhythms Drum
 s from different cultures around the world will be available for you to co
 nnect with.\n\nPlease bring a chair and anything to help you be comfortabl
 e along with an offering for our Fire ritual.\n\nDrumming is a perfect res
 ource in freeing the mind so you can rest\, relax\, and hang out with othe
 rs . Drumming helps boost the immune system and promote physical healing. 
 Drum therapy encourages people to release inner trauma through physical mo
 vement and meditative rhythms\, as well as bringing people together.\n\nYo
 u are a gift. To walk this path together is a gift.\n\n​WHEN:\nFriday: A
 ugust 23rd\, 7pm -9pm\n\nWHERE:\nCharees home sanctuary &amp\; woods\, exa
 ct address given upon registration.\n\nWHAT TO BRING:\nA journal\, water b
 ottle\, and any sacred items you'd like to charge.\n\n♡ Join us\, dear s
 oul.\nIn support of what you've come here to do &amp\; commitment to knowi
 ng thy Self\, cultivating unconditional acceptance of what IS.\nWe are her
 e to hold you. We are here to love you. We are here to witness you.\n\n&nb
 sp\;\n\nREGISTRATION:\n\n-Sliding scale $33 -$77\n\n-Pick the amount that 
 works for you &amp\; submit via vemno @MiraculousEnterprises\n\n-Please in
 clude your email address and the emoji 🔥🪘🐉\n\n.:: YOUR FACILITATO
 RS:.\n\n~Charee Janelle &amp\; Floyd\n\n&nbsp\;\n\n&nbsp\;
ATTACH;FMTTYPE=image/jpeg:https://chareejanelle.com/wp-content/uploads/202
 4/08/Screenshot_20240822_131022_Instagram.jpg
CATEGORIES:GUEST WORKSHOP,Special guest
END:VEVENT
BEGIN:VTIMEZONE
TZID:America/New_York
X-LIC-LOCATION:America/New_York
BEGIN:DAYLIGHT
DTSTART:20240310T030000
TZOFFSETFROM:-0500
TZOFFSETTO:-0400
TZNAME:EDT
END:DAYLIGHT
END:VTIMEZONE
END:VCALENDAR