BEGIN:VCALENDAR
VERSION:2.0
PRODID:-//wp-events-plugin.com//7.2.3.1//EN
TZID:America/New_York
X-WR-TIMEZONE:America/New_York
BEGIN:VEVENT
UID:248@chareejanelle.com
DTSTART;TZID=America/New_York:20250711T190000
DTEND;TZID=America/New_York:20250711T204500
DTSTAMP:20250711T144538Z
URL:https://chareejanelle.com/events-list/sacred-fire-ceremony-drum-circle
 -w-floyd-jones/
SUMMARY:SACRED FIRE CEREMONY & DRUM CIRCLE w/Floyd Jones
DESCRIPTION:SACRED FIRE CEREMONY &amp\; DRUM CIRCLE \nAn invite to be held 
 by the drumbeat of the Earth\, to root down\, and rise up into higher wisd
 om\, remembrance.\n\nThis is a powerful time to shift timelines\, align wi
 th one's soul purpose and create the trajectory of this next cycle.\nThis 
 is the most perfect time to fully GROUND into the light that which you hol
 d. The time is now to shine\, and TRUST yourself and the radiant perfectio
 n within. Let spirit give you the messages you need.\n\n🌀🌀🌀FLOW O
 F THE EVENING🌀🌀\n✧ Grounding Meditation + Energy Activation + Move
 ment +Breathwork\n✧ Opening Circle (vulnerable &amp\; authentic\, intent
 ions)\n✧ Drum Journey (Guided into a Shamanic Trance\, to connect with t
 he Womb of the Mother Earth. Through the Beat of her heart\, we will heal\
 , integrate\, and receive)\n✧ Closing jam /fire circle\n\n.✨️✨️
 ✨️✨️✨️✨️✨️✨️✨️✨️✨️✨️✨️✨️
 ✨️\n✦ This journey can bring clarity\n✦ It will help you move\, cl
 ear\, and transmute dense\, stagnant &amp\; heavy emotions &amp\; welcome 
 in the light.\n✦ You will remember you are held by so much greater than 
 your ego self\n✦ You will connect with a community\, kindred souls &amp\
 ; like minded beings\, that may be going through similar experiences a rem
 inder that we are never alone.\n¤ The messages you receive will support y
 ou onward\n¤ A feeling of peace will surround you &amp\; the energy will 
 continue to unfold and support you for days\, weeks\, to come.\n\n🪘🪘
 🪘🪘🪘🪘🪘🪘🪘🪘🪘🪘🪘🪘🪘🪘\nWe will share ou
 r hearts around the fire\, setting intentions with deep breathing and an o
 ffering to the fire. We will go over drumming techniques\, play African Rh
 ythms and dive into a shamanic drum meditation. In this space\, a higher c
 onsciousness where wisdom\, healing\, and an understanding of our true sel
 f come into being. Join us as we create rhythms from different cultures ar
 ound the world to connect with your heart and soul.\nPlease bring a chair 
 and anything to help you be comfortable along with an offering for our Fir
 e ritual.\n\nDrumming helps boost the immune system and promote physical h
 ealing. Drum therapy encourages people to release inner trauma through phy
 sical movement and meditative rhythms\, as well as bringing people togethe
 r.\n\nYou are a gift. To walk this path together is a gift.\n\n​WHEN: Fr
 iday July 11th\nTIME: 7pm - 8:30pm /hard end at 9pm\nWHERE: Charee's home 
 sanctuary &amp\; woods\, exact address given upon registration.\n\nWHAT TO
  BRING:\nA journal\, water bottle\, and any sacred items you'd like to cha
 rge.\n♡ Join us\, dear soul.\n\nDrums will be provided but feel free to 
 bring your own drum or instrument.\n\nIn support of what you've come here 
 to do &amp\; commitment to knowing thy Self\, cultivating unconditional ac
 ceptance of what IS.\n\nWe are here to hold\, witness and love you into he
 aling and remembrance 🔥🪘🐉\n\n&nbsp\;\n\n&nbsp\;\n\n&nbsp\;\n\nTie
 r Pricing:\n\n&nbsp\;\n\nTier 1: Community Nourishment $66+\n\nYour contri
 bution supports not only your own journey but helps subsidize. You’re no
 urishing the collective\, and we are deeply grateful.\n\n&nbsp\;\n\n🌾 T
 ier 2: Sustainer  $55\n\nThis is the true cost of the offering and sustai
 ns the work. Thank You\n\n&nbsp\;\n\n🍃 Tier 3: Seed Support  $44\n\nTh
 is rate makes the offering accessible to all. You’re planting powerful s
 eeds. thank you\n\n&nbsp\;\n\nYou are invited to contribute from a place o
 f alignment—with your heart\, your resources\, and the medicine you rece
 ive. This is a sacred reciprocity\, not a transaction.\n\nWE APPRECIATE AN
 D LOVE YOUR SUPPORT!!\n\n&nbsp\;\n\nThis is not a drum jam\, but rather a 
 deeply sacred intentional  healing space .\n\n&nbsp\;\n\nWe are honored t
 o have you join ♥️🔥🪘\n\n&nbsp\;\n\n&nbsp\;\n\nTo Register:\n\n&n
 bsp\;\n\n1. Please select amount you wish to pay\n\n&nbsp\;\n\n2. submit t
 hat amount via vemno @miraculousenterprises\n\n&nbsp\;\n\n&nbsp\;\n\nOr\n\
 nCashapp:\n\n$chareejanelle808\n\n&nbsp\;\n\nOr\n\nPaypal:\n\nInfo@chareej
 anelle.com\n\n&nbsp\;\n\nInclude full name\, email &amp\; # so you can rec
 eive confirmation and details &amp\; address!!\n\n&nbsp\;\n\ncontact chare
 e with any questions info@chareejanelle.com\n\n610 463 4051\n\n&nbsp\;\n\n
 &nbsp\;\n\n&nbsp\;\n\n&nbsp\;\n\n&nbsp\;\n\n&nbsp\;\n\n&nbsp\;\n\n&nbsp\;\
 n\n&nbsp\;
ATTACH;FMTTYPE=image/jpeg:https://chareejanelle.com/wp-content/uploads/202
 5/07/Screenshot_20250711_101234_Facebook.jpg
END:VEVENT
BEGIN:VTIMEZONE
TZID:America/New_York
X-LIC-LOCATION:America/New_York
BEGIN:DAYLIGHT
DTSTART:20250309T030000
TZOFFSETFROM:-0500
TZOFFSETTO:-0400
TZNAME:EDT
END:DAYLIGHT
END:VTIMEZONE
END:VCALENDAR