BEGIN:VCALENDAR
VERSION:2.0
PRODID:-//wp-events-plugin.com//7.2.3.1//EN
TZID:America/New_York
X-WR-TIMEZONE:America/New_York
BEGIN:VEVENT
UID:233@chareejanelle.com
DTSTART;TZID=America/New_York:20250412T190000
DTEND;TZID=America/New_York:20250412T210000
DTSTAMP:20250416T220151Z
URL:https://chareejanelle.com/events-list/sacred-fire-ceremony-drum-circle
 -w-charee-floyd-2/
SUMMARY:SACRED FIRE CEREMONY & DRUM CIRCLE W/Charee & Floyd
DESCRIPTION:SACRED FIRE &amp\; DRUM CIRCLE\nFloyd Joynes of Symphonic Harmo
 nics &amp\; Charee invites you to join on Saturday 4/12\n✨Energy Clearin
 g + Breath + Movement\n✨Deep Surrender &amp\; Letting Go\n✨Drum into M
 editative Trance\n✨Connect with the Mother Earth\n✨Receive Messages\nA
 n invite to be held by drumbeat of Earth\nRroot down\nRise up into higher 
 wisdom\nRemembrance\nComing off a very powerful and dynamic solar eclipse\
 , we're entering into a new vibrational energy expansion\, connection + ac
 tivation.\nThis is a powerful shift timelines to align with one's soul pur
 pose.\nCreate trajectory of this next cycle.\nThis is the most perfect tim
 e to fully GROUND into the light that which you hold. The time is now to s
 hine\, and TRUST yourself and the radiant perfection within. Let spirit gi
 ve you the messages you need.\n🌀🌀🌀🌀🌀FLOW OF THE EVENING🌀
 🌀🌀🌀\n✧ Grounding Meditation + Energy Activation + Movement +Bre
 athwork\n✧ Opening Circle (vulnerable &amp\; authentic\, intentions)\n
 ✧ Drum Journey (Guided into a Shamanic Trance\, to connect with the Womb
  of the Mother Earth. Through the Beat of her heart\, we will heal\, integ
 rate\, and receive)\n✧ Closing jam /fire circle\n.✨️✨️✨️✨
 ️✨️✨️✨️✨️✨️✨️✨️✨️✨️✨️✨️\n✦
  This journey can bring clarity\n✦ It will help you move\, clear\, and t
 ransmute dense\, stagnant &amp\; heavy emotions &amp\; welcome in the ligh
 t.\n✦ You will remember you are held by so much greater than your ego se
 lf\n✦ You will connect with a community\, kindred souls &amp\; like mind
 ed beings\, that may be going through similar experiences a reminder that 
 we are never alone.\n¤ The messages you receive will support you onward\n
 ¤ A feeling of peace will surround you &amp\; the energy will continue to
  unfold and support you for days\, weeks\, to come.\n🪘🪘🪘🪘🪘
 🪘🪘🪘🪘🪘🪘🪘🪘🪘🪘🪘\nWe will share our hearts aro
 und the fire\, setting intentions with deep breathing and an offering to t
 he fire. We will go over drumming techniques\, play African Rhythms and di
 ve into a shamanic drum meditation. In this space\, a higher consciousness
  where wisdom\, healing\, and an understanding of our true self come into 
 being. Join us as we create rhythms from different cultures around the wor
 ld to connect with your heart and soul.\n&nbsp\;\n\n&nbsp\;\n\nRegistratio
 n is required to reserve your spot.\n\nTier pricing $33\, $44\, $55\n\n&nb
 sp\;\n\n\n\n&nbsp\;\n\nPlease select the amount &amp\; contact Charee at i
 nfo@chareejanelle.com or 610 463 4051 &amp\; she get you registered.\n\n&n
 bsp\;\n\n&nbsp\;\n\nMiraculous Transformations Are Your Birthright!\n\nDAT
 E:  Friday 6/6/25\n\nTIME: 7PM\n\nLOCATION: Charees Sanctuary Morgantown 
 PA ( private address given once registered )\n\n&nbsp\;\n\n&nbsp\;
ATTACH;FMTTYPE=image/jpeg:https://chareejanelle.com/wp-content/uploads/202
 5/04/Screenshot_20250405_110622_Instagram-1.jpg
CATEGORIES:Sound,Special guest
END:VEVENT
BEGIN:VTIMEZONE
TZID:America/New_York
X-LIC-LOCATION:America/New_York
BEGIN:DAYLIGHT
DTSTART:20250309T030000
TZOFFSETFROM:-0500
TZOFFSETTO:-0400
TZNAME:EDT
END:DAYLIGHT
END:VTIMEZONE
END:VCALENDAR