BEGIN:VCALENDAR
VERSION:2.0
PRODID:-//wp-events-plugin.com//7.2.3.1//EN
TZID:America/New_York
X-WR-TIMEZONE:America/New_York
BEGIN:VEVENT
UID:235@chareejanelle.com
DTSTART;TZID=America/New_York:20230621T190000
DTEND;TZID=America/New_York:20230621T210000
DTSTAMP:20250512T205843Z
URL:https://chareejanelle.com/events-list/sacred-drum-fire-ceremony-2/
SUMMARY:Sacred Fire &  Drum Ceremony
DESCRIPTION:\n\n✦ Deep Surrender &amp\; Letting Go\n✦ Drum into Meditat
 ive Trance\n✦ Connect with the Mother Earth\n✦ Receive Messages\n\nAn 
 invite to be held by the drumbeat of the Earth\, to root down\, and rise u
 p into higher wisdom\, remembrance.\n\nBeloved Bright Ones &amp\; Souls\,\
 n\nWe have been experiencing an accelerated mix of growth\, gestation\, ex
 pansion\, contraction\, unbecoming\, becoming.\n\nThis is the most perfect
  time to fully GROUND into the light that which you hold. The time is now 
 to shine\, and TRUST yourself and the radiant perfection within.\n\nYou ar
 e enough\, you are loved\, and you are perfect as you are\, you deserve to
  be seen for who you truly are - a divine\, whole being\, worthy of grace 
 and ease\, simply because you exist!\n\nThis sacred space invites you to c
 ome exactly as you are\; all of you. We love you.\n\n🌀🌀🌀FLOW OF T
 HE EVENING🌀🌀🌀\n\n✧ Grounding Meditation + Movement Activation +
  Journal Prompt/ Reflection\n✧ Opening Circle (vulnerable &amp\; authent
 ic\, intentions)\n✧ Drum Journey (Guided into a Shamanic Trance\, to con
 nect with the Womb of the Mother Earth. Through the Beat of her heart\, we
  will heal\, integrate\, and receive)\n✧ Closing jam /fire circle\n\n.
 ✨️✨️✨️✨️✨️✨️✨️✨️✨️✨️✨️✨️
 ✨️✨️✨️☀️\n\n✦ This journey can bring clarity\n✦ It wil
 l help you move\, clear\, and transmute dense\, stagnant &amp\; heavy emot
 ions &amp\; welcome in the light.\n✦ You will remember you are held by s
 o much greater than your ego self\n✦ You will connect with a community\,
  kindred souls &amp\; like minded beings\, that may be going through simil
 ar experiences a reminder that we are never alone.\n\n¤ The messages you 
 receive will support you onward\n¤ A feeling of peace will surround you &
 amp\; the energy will continue to unfold and support you for days\, weeks\
 , to come.\n\n🪘🪘🪘🪘🪘🪘🪘🪘🪘🪘🪘🪘🪘🪘🪘
 🪘\n\nYou will be engaged in a shamanic drum meditation\, a higher consc
 iousness where wisdom\, healing\, and an understanding of our true self co
 me into being. Shamanic Drumming awakens the capability to commune with th
 e Inner-Self for deeply profound Personal Growth. Join us as we create dru
 m rhythms as the sun sets where nature is at its utmost beaut. Lots of dru
 ms and shakers from different cultures around the world will be available 
 for you to connect with.\n\nPlease bring a chair and anything to help you 
 be comfortable along with an instrument for open jam closing.\n\nDrumming 
 is a perfect resource in freeing the mind so you can rest\, relax\, and ha
 ng out with others . Drumming helps boost the immune system and promote ph
 ysical healing. Drum therapy encourages people to release inner trauma thr
 ough physical movement and meditative rhythms\, as well as bringing people
  together.\n\nYou are a gift. To walk this path together is a gift.\n\n​
 WHEN:\nSarurday June 7th\n7pm -9pm\n\nWHERE:\nCharees home sanctuary &amp\
 ; woods\, exact address given upon registration.\n\nWHAT TO BRING:\nA jour
 nal\, water bottle\, and any sacred items you'd like for the altar .\n\n&n
 bsp\;\n\nDress comfy\n\nBig spray and chairs are available for you to use\
 n\n✨️ENERGY EXCHANGE ✨️\n$44 \, $55\, $66  ( tier pricing)\n\n&nb
 sp\;\n\nPlease submit energy exchange via vemno @MiraculousEneterprises\n\
 ninclude your full name\, phone # and email\n\n****No one will be turned 
 away for lack of funds\, email Charee info@chareejanelle.com\n\n♡ Join u
 s\, dear soul.\nIn support of what you've come here to do &amp\; commitmen
 t to knowing thy Self\, cultivating unconditional acceptance of what IS.\n
 We are here to hold you. We are here to love you. We are here to witness y
 ou.
CATEGORIES:Workshops
END:VEVENT
BEGIN:VTIMEZONE
TZID:America/New_York
X-LIC-LOCATION:America/New_York
BEGIN:DAYLIGHT
DTSTART:20230312T030000
TZOFFSETFROM:-0500
TZOFFSETTO:-0400
TZNAME:EDT
END:DAYLIGHT
END:VTIMEZONE
END:VCALENDAR