BEGIN:VCALENDAR
VERSION:2.0
PRODID:-//wp-events-plugin.com//7.2.3.1//EN
TZID:America/New_York
X-WR-TIMEZONE:America/New_York
BEGIN:VEVENT
UID:153@chareejanelle.com
DTSTART;TZID=America/New_York:20240517T190000
DTEND;TZID=America/New_York:20240517T210000
DTSTAMP:20240503T134028Z
URL:https://chareejanelle.com/events-list/restore-reiki-nidra-sound/
SUMMARY:RESTORE\, REIKI\, NIDRA + SOUND
DESCRIPTION:\nRestore\, Reiki\, Nidra + Sound \nYou will be guided through 
 a relaxing restorative yoga sequence that will deeply open your body &amp\
 ; create space to surrender while enjoying the healing energy &amp\; sound
  vibrations of crystal bowls &amp\; sacred instruments. With great focus o
 n restoring the mind\, body and spirit by strengthening the nervous system
  through deep rest\, you will be empowered by a renewed connection with Se
 lf through relaxation &amp\; stillness.\nRegistration is a must! Arrive 5 
 mins early.\n\n&nbsp\;\n\n&nbsp\;\nLOCATION:  HotYoga West Reading\nDATE 
 : Friday May 17th\, 7pm\n&nbsp\;\n\n&nbsp\;\n\nREGISTER\n\n⬇️⬇️⬇
 ️⬇️\n\nhttp://Www.momence.com\n\n&nbsp\;
ATTACH;FMTTYPE=image/jpeg:https://chareejanelle.com/wp-content/uploads/202
 4/05/Screenshot_20240503_093336_Facebook.jpg
CATEGORIES:Sound,Workshops
LOCATION:hot yoga west reading\, 120 south 3rd Avenue \, Reading \, Pa \, U
 nited States
GEO:40.333605;-75.944306
X-APPLE-STRUCTURED-LOCATION;VALUE=URI;X-ADDRESS=120 south 3rd Avenue \, Rea
 ding \, Pa \, United States;X-APPLE-RADIUS=100;X-TITLE=hot yoga west readi
 ng:geo:40.333605,-75.944306
END:VEVENT
BEGIN:VTIMEZONE
TZID:America/New_York
X-LIC-LOCATION:America/New_York
BEGIN:DAYLIGHT
DTSTART:20240310T030000
TZOFFSETFROM:-0500
TZOFFSETTO:-0400
TZNAME:EDT
END:DAYLIGHT
END:VTIMEZONE
END:VCALENDAR