BEGIN:VCALENDAR
VERSION:2.0
PRODID:-//wp-events-plugin.com//7.2.3.1//EN
TZID:America/New_York
X-WR-TIMEZONE:America/New_York
BEGIN:VEVENT
UID:277@chareejanelle.com
DTSTART;TZID=America/New_York:20251017T193000
DTEND;TZID=America/New_York:20251017T213000
DTSTAMP:20251017T005725Z
URL:https://chareejanelle.com/events-list/restore-reiki-nidra-sound-2/
SUMMARY:RESTORE\, REIKI\, NIDRA + SOUND
DESCRIPTION:&nbsp\;\n\n&nbsp\;\nRestore\, Reiki\, Nidra + Sound \nYou will 
 be guided through a relaxing restorative yoga sequence that will deeply op
 en your body &amp\; create space to surrender while enjoying the healing e
 nergy &amp\; sound vibrations of crystal bowls &amp\; sacred instruments. 
 With great focus on restoring the mind\, body and spirit by strengthening 
 the nervous system through deep rest\, you will be empowered by a renewed 
 connection with Self through relaxation &amp\; stillness.\nRegistration is
  a must! Arrive 5 mins early.\n\n&nbsp\;\n\n&nbsp\;\nLOCATION:  HotYoga W
 est Reading\nDATE : Friday May 17th\, 7pm\n&nbsp\;\n\n&nbsp\;\n\nREGISTER\
 n\n⬇️⬇️⬇️⬇️\n\n&nbsp\;\n\n&nbsp\;\n\n\n\n&nbsp\;\n\n&nbsp\
 ;
ATTACH;FMTTYPE=image/jpeg:https://chareejanelle.com/wp-content/uploads/202
 5/10/FB_IMG_1760661699793.jpg
CATEGORIES:Sound,Workshops
LOCATION:hot yoga west reading\, 120 south 3rd Avenue \, Reading \, Pa \, U
 nited States
GEO:40.333605;-75.944306
X-APPLE-STRUCTURED-LOCATION;VALUE=URI;X-ADDRESS=120 south 3rd Avenue \, Rea
 ding \, Pa \, United States;X-APPLE-RADIUS=100;X-TITLE=hot yoga west readi
 ng:geo:40.333605,-75.944306
END:VEVENT
BEGIN:VTIMEZONE
TZID:America/New_York
X-LIC-LOCATION:America/New_York
BEGIN:DAYLIGHT
DTSTART:20250309T030000
TZOFFSETFROM:-0500
TZOFFSETTO:-0400
TZNAME:EDT
END:DAYLIGHT
END:VTIMEZONE
END:VCALENDAR