BEGIN:VCALENDAR
VERSION:2.0
PRODID:-//wp-events-plugin.com//7.2.3.1//EN
TZID:America/New_York
X-WR-TIMEZONE:America/New_York
BEGIN:VEVENT
UID:356@chareejanelle.com
DTSTART;TZID=America/New_York;VALUE=DATE:20260410
DTEND;TZID=America/New_York;VALUE=DATE:20260413
DTSTAMP:20260327T174054Z
URL:https://chareejanelle.com/events-list/restorative-yoga-teacher-trainin
 g-certification-with-charee/
SUMMARY:Restorative Yoga Teacher Training Certification with Charee
DESCRIPTION:    \n\n&nbsp\;\n\n&nbsp\;\n\n&nbsp\;\n\nRestorative Yoga Teach
 er Training Certification with Charee\n25hr Weekend Immersion | April 10-1
 2\, 2026\n\nThere is a kind of rest that changes you.\n\nRestorative Yoga 
 is a deeply healing practice designed to calm the nervous system\, soften 
 the body\, and nurture the spirit. In this intimate training\, Charee shar
 es her signature approach developed from over a decade of weekly restorati
 ve teaching and advanced study — blending alignment\, energy work\, Reik
 i\, breathwork\, and sacred sound.\n\nThis training is for yoga teachers\,
  energy practitioners\, wellness practitioners\, or anyone ready to expand
  their offerings\, deepen their understanding and gain tools to integrate 
 restorative yoga with a trauma-informed approach and enhance their own pra
 ctice as well as any class they lead\, creating a safe and supportive envi
 ronment for healing.\n\nWhat you’ll learn:\n\n•⁠ ⁠22+ restorative 
 poses\, variations &amp\; modifications\n•⁠ ⁠Sequencing safe\, balan
 ced\, nervous-system-informed classes\n•⁠ ⁠Weaving Reiki\, energy he
 aling &amp\; breathwork into your teaching\n•⁠ ⁠Using your voice to 
 hold sacred space\n•⁠ ⁠Teaching with minimal or prop-rich setups\n
 •⁠ ⁠Incorporating sacred music &amp\; sound\n•⁠ ⁠Contraindicat
 ions &amp\; safety considerations\n•⁠ ⁠Marketing\, logistics &amp\; 
 confidently leading your first class\n\nTraining includes:\n\n🌿 A 90 mi
 nute restorative yoga class with Charee\n🌿 15hrs in-person learning the
 ory and practicum\n🌿 Teaching practicum hours with supportive feedback 
 and integration\n🌿 Certificate of completion + CEUs\n🌿 Optional Reik
 i attunement available\n\nIf you feel called to deepen your skills and con
 fidence in guiding others into healing and restoration through Restorative
  Yoga and Healing work — this is your invitation.\n\n💫 Limited spots 
 available\n\n&nbsp\;\n\n&nbsp\;\n\n
ATTACH;FMTTYPE=image/jpeg:https://chareejanelle.com/wp-content/uploads/202
 6/03/Restorative-Yoga.jpeg
LOCATION:hot yoga west reading\, 120 south 3rd Avenue \, Reading \, Pa \, U
 nited States
GEO:40.333605;-75.944306
X-APPLE-STRUCTURED-LOCATION;VALUE=URI;X-ADDRESS=120 south 3rd Avenue \, Rea
 ding \, Pa \, United States;X-APPLE-RADIUS=100;X-TITLE=hot yoga west readi
 ng:geo:40.333605,-75.944306
END:VEVENT
BEGIN:VTIMEZONE
TZID:America/New_York
X-LIC-LOCATION:America/New_York
BEGIN:DAYLIGHT
DTSTART:20260308T030000
TZOFFSETFROM:-0500
TZOFFSETTO:-0400
TZNAME:EDT
END:DAYLIGHT
END:VTIMEZONE
END:VCALENDAR