BEGIN:VCALENDAR
VERSION:2.0
PRODID:-//wp-events-plugin.com//7.2.3.1//EN
TZID:America/New_York
X-WR-TIMEZONE:America/New_York
BEGIN:VEVENT
UID:236@chareejanelle.com
DTSTART;TZID=America/New_York:20250627T120000
DTEND;TZID=America/New_York:20250627T130000
DTSTAMP:20250607T053342Z
URL:https://chareejanelle.com/events-list/rest-receive-midday-breath-gong-
 portal/
SUMMARY:REST & RECEIVE-Midday Breath Gong Portal
DESCRIPTION:&nbsp\;\n\n\n\n&nbsp\;\n\n&nbsp\;\n\nRESET &amp\; RECEIVE\nA Mi
 dday Breath &amp\; Gong Portal\nFriday\, June 22nd | 12:00\n\nPause. Breat
 he. Return.\n\nIn the heart of the day\, let's drop in &amp\; enter a sacr
 ed 60 min journey of breath and sound designed to clear\, calm\, and awake
 n at a cellular level. Through guided breath and the deep resonance of the
  gong\, you’ll soften tension\, access inner stillness\, and leave renew
 ed. My intention is to create harmonic healing resonance for you to lean i
 nto the flow space where everything is pure presence &amp\; manifestation.
 \n\nIts never about time\, it's about aligment.\n\nThis is sacred rest for
  your soul.\n\nWhat to Bring: A yoga mat\, blanket\, and anything for your
  comfort\, eye covering\, sacred items for altar\, intentions\, open heart
  &amp\; your beautiful being\n\nLocation: Enchanted Elements Apothecary\nH
 igh Street\, Pottstown PA\n\nExchange: $55\n\nReserve Your Space now !!\n\
 n&nbsp\;\n\nPrice increases closer to date.\n\n&nbsp\;\n\n&nbsp\;\n\n&nbsp
 \;\n\n&nbsp\;\n\n&nbsp\;\n\n&nbsp\;\n\n&nbsp\;\n\n&nbsp\;\n\n\n\n&nbsp\;\n
 \nGive yourself this gift before the weekend begins. Come home to your bre
 ath\, your body\, your being.\n\n&nbsp\;\n\n&nbsp\;\n\n&nbsp\;\n\n&nbsp\;\
 n\n&nbsp\;\n\n&nbsp\;\n\n&nbsp\;
ATTACH;FMTTYPE=image/jpeg:https://chareejanelle.com/wp-content/uploads/202
 5/05/Screenshot_20250502_103043_Canva.jpg
CATEGORIES:Sound
LOCATION:enchanted Elements Apothecary\, High street \, Pottstown \, United
  States
GEO:39.95702;-75.200858
X-APPLE-STRUCTURED-LOCATION;VALUE=URI;X-ADDRESS=High street \, Pottstown \,
  United States;X-APPLE-RADIUS=100;X-TITLE=enchanted Elements Apothecary:ge
 o:39.95702,-75.200858
END:VEVENT
BEGIN:VTIMEZONE
TZID:America/New_York
X-LIC-LOCATION:America/New_York
BEGIN:DAYLIGHT
DTSTART:20250309T030000
TZOFFSETFROM:-0500
TZOFFSETTO:-0400
TZNAME:EDT
END:DAYLIGHT
END:VTIMEZONE
END:VCALENDAR