BEGIN:VCALENDAR
VERSION:2.0
PRODID:-//wp-events-plugin.com//7.2.3.1//EN
TZID:America/New_York
X-WR-TIMEZONE:America/New_York
BEGIN:VEVENT
UID:65@chareejanelle.com
DTSTART;TZID=America/New_York:20230721T100000
DTEND;TZID=America/New_York:20230722T180000
DTSTAMP:20230607T161620Z
URL:https://chareejanelle.com/events-list/reiki-weekend-training/
SUMMARY:REIKI WEEKEND TRAINING
DESCRIPTION:REIKI WEEKEND TRAINING\n\nHeld at Charee’s Home Sanctuary\n\n
 Levels I &amp\; II Training and Certification\n\nLearning Usui Holy Fire R
 eiki Levels I &amp\; II during this immersive weekend training will be an 
 empowering experience that transforms your life and the lives of those aro
 und you.\n\nParticipants gain access to powerful and timeless energies\, a
 nd experience personal healing on the levels of mind\, body\, and soul.\n\
 nThere are 16 total hours of training\, 8 hours each day. A 1-hour lunch b
 reak plus additional 15-minute breaks will be given about every 90-minutes
 .\n\n&nbsp\;\n\nReiki\n\nReiki Levels I &amp\; II training is a combinatio
 n of lecture\, discussion\, and hands-on/hands-off practice\, which includ
 es giving and receiving complete Reiki treatments using all the hand posit
 ions. It also consists of learning to heal through intuitively scanning th
 e body for information about where Reiki is needed. You will perform exten
 sive self-treatment\, use all the level II symbols\, including distance he
 aling\, and several Japanese Reiki techniques.\n\nThe information and tech
 niques covered include:\n\n 	Opening to the infinite flow of Holy Fire Rei
 ki (spiritually guided life-force energy)\n 	How to hold Reiki sessions us
 ing hand placements and intuitive guidance and how to conduct a distance h
 ealing session\n 	How to heal unwanted habits of the mind and body and Hay
 ashi Sensei’s healing guide for using Reiki for specific conditions\n 	T
 he sacred Reiki level II symbols and how to use them (including comprehens
 ive practice time and homework)\n 	Using Reiki for world peace and as a fo
 undational healing path for a successful career in the healing arts\n 	Stu
 dents receive a 190-page Reiki manual\, certificates for both Reiki levels
  I and II\, and placements (formerly called attunements).\n\nReasons to Le
 arn Reiki\n\nThe many benefits of learning Reiki include:\n\n 	Increases i
 ntuitive and spiritual gifts\n 	Helps heal yourself and others energetical
 ly\, physically and mentally\n 	Completely shifts and revitalizes your per
 sonal energy\n 	Clears negative thoughts and emotions\n 	Releases and heal
 s trauma\n 	Empowers your mind\n 	Purifies and clears limiting beliefs\n 	
 Shifts your consciousness to a higher level\n\nAfter the Training\n\nIt is
  anticipated that graduates will set aside additional time to practice Rei
 ki after the training has ended. Charee suggests dedicating about 2 hours 
 per week for 4-6 weeks. You can do this with others from the group or with
  friends and family members. This amount of practice is necessary to gain 
 the experience and confidence you need to fully utilize your Reiki trainin
 g.\n\nAbout Your Instructor\n\nCharee Janelle is a Usui Holy Fire Reiki Ma
 ster Teacher. You will feel seen\, heard\, nourished\, and supported with 
 love by her. She is dedicated to serving\, empowering\, and guiding her st
 udents back home to their true essence!\n\nInvestment\n\nYour investment f
 or Reiki Training &amp\; Certification Levels I &amp\; II (plus lunch each
  day) is $500 if paid in full (Save $55) before June 6th or $555 with a $1
 75 deposit due at registration. The $380 balance is due two weeks prior to
  the start of training. Payment plans and limited scholarships are availab
 le. Contact Charee about your request.\nClick on “REGISTER NOW!” then 
 “Select” next to Events.\nScroll down the list and click on “Book”
  for this one.\n
ATTACH;FMTTYPE=image/jpeg:https://chareejanelle.com/wp-content/uploads/202
 3/05/Usui-Holy-Fire-Reiki.jpg
CATEGORIES:Reiki
END:VEVENT
BEGIN:VTIMEZONE
TZID:America/New_York
X-LIC-LOCATION:America/New_York
BEGIN:DAYLIGHT
DTSTART:20230312T030000
TZOFFSETFROM:-0500
TZOFFSETTO:-0400
TZNAME:EDT
END:DAYLIGHT
END:VTIMEZONE
END:VCALENDAR