BEGIN:VCALENDAR
VERSION:2.0
PRODID:-//wp-events-plugin.com//7.2.3.1//EN
TZID:America/New_York
X-WR-TIMEZONE:America/New_York
BEGIN:VEVENT
UID:108@chareejanelle.com
DTSTART;TZID=America/New_York:20240623T150000
DTEND;TZID=America/New_York:20240623T171500
DTSTAMP:20250604T231727Z
URL:https://chareejanelle.com/events-list/reiki-share-potluck-for-practiti
 oners/
SUMMARY:Reiki Share + Potluck For Practitioners
DESCRIPTION:Reiki Practitioners &amp\; Master Teachers\, you are invited to
  Charees place for giving &amp\; receiving\, love &amp\; community\, REIKI
  SHARE.\n\nplease bring a simple side dish to share potluck and your beaut
 iful spirit &amp\; energy.\n\nA suggested donation $11-$22 but any is grac
 iously accepted and will be put to the  butterfly scholarship fund🦋
 🦋⏬️⏬️\n\nhttps://chareejanelle.com/butterfly-scholarship-fund/\
 n\nI need a final head count by noon FRIDAY before SHARE.\n\nPlease let me
  if you are coming\nwhatsapp me #610-463-4051\n\n✨️✨️⏬️JOIN HE
 RE⏬️✨️✨️\nhttps://chat.whatsapp.com/EOcYJS1aoxkFv1l2ESmuP8\n
 ✨️✨️✨️✨️✨️✨️✨️✨️✨️✨️✨️✨️
 ✨️✨️✨️\n\n&nbsp\;\n\nThank you✨️\n\nMiracles &amp\; Abunda
 nce are your birthright!\n\n🌹Charee
ATTACH;FMTTYPE=image/jpeg:https://chareejanelle.com/wp-content/uploads/202
 3/12/Screenshot_20231215_023620_Gallery.jpg
CATEGORIES:Reiki
END:VEVENT
BEGIN:VTIMEZONE
TZID:America/New_York
X-LIC-LOCATION:America/New_York
BEGIN:DAYLIGHT
DTSTART:20240310T030000
TZOFFSETFROM:-0500
TZOFFSETTO:-0400
TZNAME:EDT
END:DAYLIGHT
END:VTIMEZONE
END:VCALENDAR