BEGIN:VCALENDAR
VERSION:2.0
PRODID:-//wp-events-plugin.com//7.2.3.1//EN
TZID:America/New_York
X-WR-TIMEZONE:America/New_York
BEGIN:VEVENT
UID:141@chareejanelle.com
DTSTART;TZID=America/New_York:20240404T213000
DTEND;TZID=America/New_York:20240613T222000
DTSTAMP:20240314T214231Z
URL:https://chareejanelle.com/events-list/reiki-meditation-spring-sessions
 -6-weeks/
SUMMARY:REIKI + MEDITATION /Spring Sessions ( 6 weeks)
DESCRIPTION:&nbsp\;\n\n&nbsp\;\n\n&nbsp\;\nDates:\nApril 4th\, 18th\nMay 2n
 d\, 16th\, 30th\nJune 13th\n&nbsp\;\nTime: 9:30 pm via Zoom\n&nbsp\;\n\nCO
 ST: $111.00 ( 6 weeks)\n\n&nbsp\;\n     REGISTER here ⏬️⏬️\nhtt
 ps://chareejanelle.as.me/?appointmentType=36105331\n       Zoom link w
 ill be sent once registered\n\nTHE LIGHT IN ME HONORS\n\nTHE LIGHT WITHIN 
 YOU 🙏\n\n&nbsp\;\n\n&nbsp\;\n\n&nbsp\;
ATTACH;FMTTYPE=image/jpeg:https://chareejanelle.com/wp-content/uploads/202
 4/03/IMG_1710436709822.jpg
CATEGORIES:Reiki
END:VEVENT
BEGIN:VTIMEZONE
TZID:America/New_York
X-LIC-LOCATION:America/New_York
BEGIN:DAYLIGHT
DTSTART:20240310T030000
TZOFFSETFROM:-0500
TZOFFSETTO:-0400
TZNAME:EDT
END:DAYLIGHT
END:VTIMEZONE
END:VCALENDAR