BEGIN:VCALENDAR
VERSION:2.0
PRODID:-//wp-events-plugin.com//7.2.3.1//EN
TZID:America/New_York
X-WR-TIMEZONE:America/New_York
BEGIN:VEVENT
UID:64@chareejanelle.com
DTSTART;TZID=America/New_York:20230525T181500
DTEND;TZID=America/New_York:20230525T191500
DTSTAMP:20230417T203039Z
URL:https://chareejanelle.com/events-list/reiki-meditation-2/
SUMMARY:Reiki & Meditation
DESCRIPTION:REIKI &amp\; MEDITATION\nJoin us on Zoom for a live group medit
 ation intertwined with Holy Fire Reiki—the energy of the sun! Meditation
  and Reiki can serve as ideal complements to each other\, working together
  to produce an overall sense of well-being and tranquility.\n\nWe will cal
 l in our power and guides to assist us in filling our beings with light\, 
 love\, energy\, gratitude and peace.\n\nAfterward\, there will be time to 
 share our experiences with each other.\n\nReiki is a gentle Japanese heali
 ng art that helps your body engage its inner resources to promote your opt
 imum well-being.\n\nThis modality can help promote a deep state of relaxat
 ion where cortisol and adrenaline levels drop\, allowing you to relax and 
 open-up to restoration.\n\nMeditation brings about a heightened state of a
 wareness and attention.\n\nIt can dissolve stress\, bringing inner peace. 
 Meditation is also a consciousness-changing technique that has been shown 
 to have a wide number of benefits on psychological well-being.\n\nThe faci
 litator\, Charee Janelle\, is a Usui Holy Fire Reiki Master Teacher\, Medi
 tation Teacher\, and Mindfulness Teacher. Participants will be sent an em
 ail confirmation with a Zoom meeting link to attend.\n\n$33 is due at the 
 time of registration and all major credit/debit cards are accepted.\n
ATTACH;FMTTYPE=image/jpeg:https://chareejanelle.com/wp-content/uploads/202
 2/08/Reiki-Meditation-on-Zoom.jpeg
CATEGORIES:Reiki
END:VEVENT
BEGIN:VTIMEZONE
TZID:America/New_York
X-LIC-LOCATION:America/New_York
BEGIN:DAYLIGHT
DTSTART:20230312T030000
TZOFFSETFROM:-0500
TZOFFSETTO:-0400
TZNAME:EDT
END:DAYLIGHT
END:VTIMEZONE
END:VCALENDAR