BEGIN:VCALENDAR
VERSION:2.0
PRODID:-//wp-events-plugin.com//7.2.3.1//EN
TZID:America/New_York
X-WR-TIMEZONE:America/New_York
BEGIN:VEVENT
UID:315@chareejanelle.com
DTSTART;TZID=America/New_York:20260111T100000
DTEND;TZID=America/New_York:20260111T110000
DTSTAMP:20260111T142657Z
URL:https://chareejanelle.com/events-list/qigong-with-monalisa/
SUMMARY:QiGong with Monalisa
DESCRIPTION:&nbsp\;\n\n\n\n&nbsp\;\n\nQIGONG with Monalisa\n📆Sunday Janu
 ary 11th\n🕚10am -11am\nLocation: School Of Miracles\nMorgantown PA\,195
 43\n\nSchool Of Miracles invites you to Say yes to “easy like Sunday mor
 ning.” Come fill your cup with one nourishing hour to drop into your bod
 y\, settle into your breath\, and let gentle movement &amp\; flow guide yo
 u back toward your own quiet center.\n\nAll ages and experiences are welco
 med\n\nPreregistration is strongly encouraged.\n$20 pp\n\n&nbsp\;\n\nRegis
 ter ⏬️⏬️\n\n\n\n&nbsp\;\n\nQuestions:\ninquire or submit to\; scho
 olofmiraclesandlove@gmail.com\n\n#610.463-4150\n\n&nbsp\;\n\n&nbsp\;\n\n&n
 bsp\;\n\n&nbsp\;
ATTACH;FMTTYPE=image/jpeg:https://chareejanelle.com/wp-content/uploads/202
 6/01/WhatsApp-Image-2026-01-10-at-22.38.12.jpeg
CATEGORIES:Qigong,Special guest,Sunday
LOCATION:School of Miracles\, 1191 shiloh road\, Morgantown \, Pennsylvania
 \, United States
GEO:40.178288;-75.917456
X-APPLE-STRUCTURED-LOCATION;VALUE=URI;X-ADDRESS=1191 shiloh road\, Morganto
 wn \, Pennsylvania\, United States;X-APPLE-RADIUS=100;X-TITLE=School of Mi
 racles:geo:40.178288,-75.917456
END:VEVENT
BEGIN:VTIMEZONE
TZID:America/New_York
X-LIC-LOCATION:America/New_York
BEGIN:STANDARD
DTSTART:20251102T010000
TZOFFSETFROM:-0400
TZOFFSETTO:-0500
TZNAME:EST
END:STANDARD
END:VTIMEZONE
END:VCALENDAR