BEGIN:VCALENDAR
VERSION:2.0
PRODID:-//wp-events-plugin.com//7.2.3.1//EN
TZID:America/New_York
X-WR-TIMEZONE:America/New_York
BEGIN:VEVENT
UID:316@chareejanelle.com
DTSTART;TZID=America/New_York:20260308T100000
DTEND;TZID=America/New_York:20260308T110000
DTSTAMP:20260113T142648Z
URL:https://chareejanelle.com/events-list/qigong-with-monalisa-2/
SUMMARY:QiGong with Monalisa
DESCRIPTION:&nbsp\;\n\n\n\n&nbsp\;\n\nQIGONG with Monalisa\n📆Sunday Marc
 h 8th\n\n&nbsp\;\n\n&nbsp\;\n\n&nbsp\;\n\n🕚10am -11am\nLocation: School
  Of Miracles\nMorgantown PA\,19543\n\nSchool Of Miracles invites you to Sa
 y yes to “easy like Sunday morning.” Come fill your cup with one nouri
 shing hour to drop into your body\, settle into your breath\, and let gent
 le movement &amp\; flow guide you back toward your own quiet center.\n\nAl
 l ages and experiences are welcomed\n\nPreregistration is strongly encoura
 ged.\n$20 pp\n\n&nbsp\;\n\nRegister ⏬️⏬️\n\n\n\n&nbsp\;\n\nQuestio
 ns:\ninquire or submit to\; schoolofmiraclesandlove@gmail.com\n\n#610.463-
 4150\n\n&nbsp\;\n\n&nbsp\;\n\n&nbsp\;\n\n&nbsp\;
CATEGORIES:Qigong,Special guest,Sunday
LOCATION:School of Miracles\, 1191 shiloh road\, Morgantown \, Pennsylvania
 \, United States
GEO:40.178288;-75.917456
X-APPLE-STRUCTURED-LOCATION;VALUE=URI;X-ADDRESS=1191 shiloh road\, Morganto
 wn \, Pennsylvania\, United States;X-APPLE-RADIUS=100;X-TITLE=School of Mi
 racles:geo:40.178288,-75.917456
END:VEVENT
BEGIN:VTIMEZONE
TZID:America/New_York
X-LIC-LOCATION:America/New_York
BEGIN:DAYLIGHT
DTSTART:20260308T030000
TZOFFSETFROM:-0500
TZOFFSETTO:-0400
TZNAME:EDT
END:DAYLIGHT
END:VTIMEZONE
END:VCALENDAR