BEGIN:VCALENDAR
VERSION:2.0
PRODID:-//wp-events-plugin.com//7.2.3.1//EN
TZID:America/New_York
X-WR-TIMEZONE:America/New_York
BEGIN:VEVENT
UID:189@chareejanelle.com
DTSTART;TZID=America/New_York:20241123T090000
DTEND;TZID=America/New_York:20241123T120000
DTSTAMP:20241021T205218Z
URL:https://chareejanelle.com/events-list/pyschic-mediumship-with-all-know
 ing-prophet/
SUMMARY:Mediumship level 2 with All Knowing Prophet
DESCRIPTION:Psychic Mediumship Level 2 \n&nbsp\;\nThis level  requires a R
 eader to be aware of both one’s strengths and weaknesses!\nNote: this Le
 vel 2 class is “not for a beginner level“ Mediums. You need to have co
 mpleted a Psychic Development class with practice sessions and a Mediumshi
 p Beginners class before taking Level 2. Any outside course will be accept
 ed with review by Barbara.\nWhen you advance to Level 2 you are in trainin
 g to acquire the “healing skills” to connect to your sitter (client) f
 or a specific type of Reading. Knowing the barriers to communicating with 
 both parties (Spirit world and a Sitter) plus your level of skill\, helps 
 to circumvent misreads and blocks. These blocks can cause a client to be f
 rustrated\, disappointed and upset with the Reading. A Medium who is not p
 repared to handle these challenges can do more harm than healing. Being sk
 illed at communicating at multiple levels as well as knowing when to “st
 op/decline” a Read requires a sensitive approach and a supportive connec
 tion.\nThis class will focus on the signs\, symbols and communications tec
 hniques that are essential in understanding the multi-dimensional aspects 
 one must consider when opening up to the Spirit world. The class will have
  participants share on the spot Reading exchanges with fellow classmates. 
 Barbara will have scenarios pre-planned to help challenge you to advance t
 o the next levels to improve on your mediumship knowledge\, skills and sen
 sitive topics! Being prepared for sensitive topics that are raised when on
 e opens up to Spirit is a skill that requires both knowledge and an awaren
 ess of the Readers concerns! As a Medium\, one must have an ability to han
 dle some difficult topics!\nLevel 2 is preparing you to move forward with 
 your gifts and will help you to acknowledge your areas in need for improve
 ment in handling specific clients and how to problem solve when loosing yo
 ur connection! A Medium must be prepared to handle challenges that arise a
 nd know when to ethically decline a Reading if there is a barrier or a blo
 ck by either party! Learning to stay connected to Spirit with interruption
 s is also a challenge we will address! Br prepared to work at your skills!
 \nA follow up session in 3 weeks will take place via zoom to discuss your 
 assigned practice sessions\n&nbsp\;\n\n&nbsp\;\n\n                
     DATE:  Saturday 11/23\n                         TIME: 
 9AM -NOON\n\nLOCATION: Charees Sacred Sanctuary       ( 2 -10 min break
 s included in this time)\n\nRegistration is needed to reserve your spot A\
 n\nand  a class minimum of 8 needed to move forward woth class. Return st
 udents receive $20 off\n\n&nbsp\;\n\n                   INVESTME
 NT:  $160\n\n                  RETURN STUDENTS: $140 \n\n&nbsp\
 ;\n\n&nbsp\;\n\n&nbsp\;\n\nTO REGISTER: please submit $ via vemno at @mira
 culousenterprises\n\n-include your full name\n\n-email\n\n-write  ' Mediu
 mship November ' \n\n&nbsp\;\n\n&nbsp\;\n\n&nbsp\;\n\nThank you🙌
ATTACH;FMTTYPE=image/jpeg:https://chareejanelle.com/wp-content/uploads/202
 4/10/Screenshot_20241021_164051_Facebook.jpg
CATEGORIES:GUEST WORKSHOP,Mediumship,Workshops
LOCATION:Charee Home Sanctuary\, 1191 shiloh road\, morgantown pa\, Pennsyl
 vania\, 19543\, United States
GEO:40.178621;-75.917988
X-APPLE-STRUCTURED-LOCATION;VALUE=URI;X-ADDRESS=1191 shiloh road\, morganto
 wn pa\, Pennsylvania\, 19543\, United States;X-APPLE-RADIUS=100;X-TITLE=Ch
 aree Home Sanctuary:geo:40.178621,-75.917988
END:VEVENT
BEGIN:VTIMEZONE
TZID:America/New_York
X-LIC-LOCATION:America/New_York
BEGIN:STANDARD
DTSTART:20241103T010000
TZOFFSETFROM:-0400
TZOFFSETTO:-0500
TZNAME:EST
END:STANDARD
END:VTIMEZONE
END:VCALENDAR