BEGIN:VCALENDAR
VERSION:2.0
PRODID:-//wp-events-plugin.com//7.2.3.1//EN
TZID:America/New_York
X-WR-TIMEZONE:America/New_York
BEGIN:VEVENT
UID:240@chareejanelle.com
DTSTART;TZID=America/New_York:20250808T120000
DTEND;TZID=America/New_York:20250811T120000
DTSTAMP:20250610T161850Z
URL:https://chareejanelle.com/events-list/private-immersive-retreat/
SUMMARY:Private 1 on 1  Immersive Retreat
DESCRIPTION:\n              THE PRIVATE IMMERSION\n\n&nbsp\;\n\nA 1:
 1 Retreat Experience for the Soul-Ready\n\n&nbsp\;\n\nThis isn’t just a 
 getaway.\n\nIt’s a homecoming.\n\nTo your body. Your rhythm. Your clarit
 y.\n\n&nbsp\;\n\nOver 3 days and 2 nights\, we drop into a sacred\, fully 
 personalized experience—designed to bring you back to center\, back to t
 ruth\, back to the version of you that’s ready to lead this next chapter
 .\n\n&nbsp\;\n\nNo group. No distractions. Just you\, fully held.\n\n&nbsp
 \;\n\nThis is a space to shed\, reclaim\, and re-align—gently\, deeply\,
  intentionally.\n\n&nbsp\;\n\nWhat’s included:\n\n&nbsp\;\n\n1:1 Guided 
 Sessions — from somatic coaching to energetic work\, bodywork\, complete
 ly tailored to you &amp\; deep healing will occur\n\n&nbsp\;\n\nDaily ritu
 als + ceremony to support release\, clarity\, and embodied integration\n\n
 &nbsp\;\n\nSpace for stillness + soul listening (nature\, breathwork\, bod
 ywork\, intuitive practices)\n\n&nbsp\;\n\nAccommodations + nourishing mea
 ls designed to regulate and replenish\n\n&nbsp\;\n\nPre + post-retreat sup
 port to ground your transformation into real life\n\n&nbsp\;\n\n&nbsp\;\n\
 nThis isn’t about fixing. It’s about remembering.\n\nAnd giving your s
 ystem space to finally exhale.\n\n&nbsp\;\n\n&nbsp\;\n\n&nbsp\;\n\nThis is
  for the soul ready being that has done the inner work\, and is ready for 
 a deeper landing\n\n&nbsp\;\n\nCraves real rest\, not just time off\n\n&nb
 sp\;\n\nDesires spaciousness to hear their own wisdom again\n\n&nbsp\;\n\n
 Feels something shifting and wants to meet it with clarity and grace\n\n&n
 bsp\;\n\nKnows next level isn’t hustle &amp\; it’s harmony\n\n&nbsp\;\
 n\n&nbsp\;\n\n&nbsp\;\n\n&nbsp\;\n\n&nbsp\;\n\nThe Investment begins at $5
 \,000 USD\n\n( depending on length &amp\; location)\n\nAll inclusive. Ever
 ything is taken care of. Just arrive.\n\n&nbsp\;\n\nThis is a sacred conta
 iner\, held with deep presence and intention.\n\nSpots are limited and cur
 ated to maintain energetic integrity.\n\n&nbsp\;\n\nIf you’re feeling th
 e call—\n\nApply for a connection call to explore alignment.\n\n&nbsp\;\
 n\n&nbsp\;\n\n\n\n&nbsp\;\n\n&nbsp\;\n\nLet’s meet in the space where tr
 uth becomes undeniable.\n\n&nbsp\;\n\nI am accepting applications for dedi
 cated &amp\; committed individuals\n\nThis is a sacred\, high-touch experi
 ence. If you feel the call\, I invite you to apply for a connection call. 
 This is not a sales call—it’s a resonance check. A space to explore if
  this container is the right fit for both of us.\n\n&nbsp\;\n\n&nbsp\;\n\n
 To honor the depth of this experience and the energy it requires\, consult
 ation &amp\;connection call is available at $111. If we decide to move for
 ward\, this amount will be credited toward your program.\n\n&nbsp\;\n\n&nb
 sp\;\n\n&nbsp\;
ATTACH;FMTTYPE=image/jpeg:https://chareejanelle.com/wp-content/uploads/202
 5/05/retreat-woods.jpg
CATEGORIES:Retreats
END:VEVENT
BEGIN:VTIMEZONE
TZID:America/New_York
X-LIC-LOCATION:America/New_York
BEGIN:DAYLIGHT
DTSTART:20250309T030000
TZOFFSETFROM:-0500
TZOFFSETTO:-0400
TZNAME:EDT
END:DAYLIGHT
END:VTIMEZONE
END:VCALENDAR