BEGIN:VCALENDAR
VERSION:2.0
PRODID:-//wp-events-plugin.com//7.2.3.1//EN
TZID:America/New_York
X-WR-TIMEZONE:America/New_York
BEGIN:VEVENT
UID:387@chareejanelle.com
DTSTART;TZID=America/New_York:20260504T090000
DTEND;TZID=America/New_York:20260831T100000
DTSTAMP:20260416T213957Z
URL:https://chareejanelle.com/events-list/prayers-meditations-for-peace/
SUMMARY:Prayers & Meditations For Peace
DESCRIPTION:Prayers &amp\; Meditations For Peace\n\nI am grateful to share 
 that i have partnered up with Bhakti Spirit on a worldwide endeavor. As a 
 dedicated yogini I am devoted to be the change I wish to see &amp\; in my 
 doing so this simple yet profound act with intention on cultivating peace.
 \nThis initiative is inspired by the dedication of the monks walking from 
 Texas—a reminder that consistent\, humble action can ripple outward in p
 owerful ways. We believe that together\, we are better.\n\nYou are invited
  to join me on Mondays at 9am on zoom or in person at School Of Miracles.\
 n\nThese gatherings are open to everyone. Whether you are Christian\, Musl
 im\, Jewish\, Buddhist\, Hindu\, spiritual without religious affiliation\,
  or have no faith at all\, you belong here. Our shared language is PEACE.\
 nOm shanti Shanti om\n\n&nbsp\;\n\n
LOCATION:School of Miracles\, 1191 shiloh road\, Morgantown \, Pennsylvania
 \, United States
GEO:40.178288;-75.917456
X-APPLE-STRUCTURED-LOCATION;VALUE=URI;X-ADDRESS=1191 shiloh road\, Morganto
 wn \, Pennsylvania\, United States;X-APPLE-RADIUS=100;X-TITLE=School of Mi
 racles:geo:40.178288,-75.917456
END:VEVENT
BEGIN:VTIMEZONE
TZID:America/New_York
X-LIC-LOCATION:America/New_York
BEGIN:DAYLIGHT
DTSTART:20260308T030000
TZOFFSETFROM:-0500
TZOFFSETTO:-0400
TZNAME:EDT
END:DAYLIGHT
END:VTIMEZONE
END:VCALENDAR