BEGIN:VCALENDAR
VERSION:2.0
PRODID:-//wp-events-plugin.com//7.2.3.1//EN
TZID:America/New_York
X-WR-TIMEZONE:America/New_York
BEGIN:VEVENT
UID:354@chareejanelle.com
DTSTART;TZID=America/New_York:20260320T170000
DTEND;TZID=America/New_York:20260320T180000
DTSTAMP:20260314T212517Z
URL:https://chareejanelle.com/events-list/pop-up-aerial-kids-3/
SUMMARY:POP UP AERIAL KIDS-
DESCRIPTION:\n\n&nbsp\;\n\nAERIAL YOGA FOR KIDS\n\n&nbsp\;\n\nYoga is an an
 cient practice that promotes physical\, mental\, and spiritual well-being 
 by using physical postures\, breathing techniques\, and meditation to stil
 l the mind. Aerial yoga uses a hammock (yoga silks swing)\, which allows f
 or postures beyond what is possible on a yoga mat.\n\n&nbsp\;\n\nAerial Yo
 ga for Kids is for youngsters ages 7–14. Children are dropped off at Cha
 ree Janelle’s home sanctuary in Morgantown\, PA. Your child will enjoy t
 he playful freedom of movement and many benefits of attending this 55-minu
 te class. Space is limited to six students in this boutique-style small-gr
 oup training. Every youngster receives personal attention and guidance. Ch
 aree’s trauma-informed mindfulness teachings will have your child feelin
 g seen\, heard\, nurtured\, and supported with love by her!\n\n&nbsp\;\n\n
 Each carefully selected pose allows your child to safely:\n\n&nbsp\;\n\nCe
 nter the mind\n\nFocus the breath\n\nDecompress the spine\n\nStretch the b
 ody\n\nTone the muscles\n\nTake weight off joints\n\nImprove flexibility\n
 \nEnhance balance\n\nIncrease strength\n\nBoost energy\n\nBuild confidence
 \n\nExperience play in a new way opportunity for your child to explore cre
 ative movement with the aerial silk hammock in a safe\, supportive &amp\; 
 fun environment and ends with a cozy guided meditation relaxation time.\n\
 nThis boutique style class allows an intimate private setting ( max 5-6 st
 udents) &amp\; Charee's trauma informed\, mindfulness teachings will have 
 you child feelin\n\nAERIAL YOGA FOR KIDS\n\n&nbsp\;\n\nYoga is an ancient 
 practice that promotes physical\, mental\, and spiritual well-being by usi
 ng physical postures\, breathing techniques\, and meditation to still the 
 mind. Aerial yoga uses a hammock (yoga silks swing)\, which allows for pos
 tures beyond what is possible on a yoga mat.\n\n&nbsp\;\n\nAerial Yoga for
  Kids is for youngsters ages 7–14. Children are dropped off at Charee Ja
 nelle’s home sanctuary in Morgantown\, PA. Your child will enjoy the pla
 yful freedom of movement and many benefits of attending this 55 -minute cl
 ass. Space is limited to six students in this boutique-style small-group t
 raining. Every child/kiddo receives personal attention and guidance. Chare
 e’s trauma-informed mindfulness teachings will have your child feeling s
 een\, heard\, nurtured\, and supported with love by her!\n\n&nbsp\;\n\nEac
 h carefully selected pose allows your child to safely:\n\n&nbsp\;\n\nCente
 r the mind\n\n&nbsp\;\n\nFocus the breath\n\n&nbsp\;\n\nDecompress the spi
 ne\n\n&nbsp\;\n\nStretch the body\n\n&nbsp\;\n\nTone the muscles\n\n&nbsp\
 ;\n\nTake weight off joints\n\n&nbsp\;\n\nImprove flexibility\n\n&nbsp\;\n
 \nEnhance balance\n\n&nbsp\;\n\nIncrease strength\n\n&nbsp\;\n\nBoost ener
 gy\n\n&nbsp\;\n\nBuild confidence\n\n&nbsp\;\n\nExperience play in a new w
 ay\n\n&nbsp\;\n\n&nbsp\;\n\nCLASS PREP\n\nPlease make sure your child does
  not eat anything heavy 90-minutes prior to the start of class. She or he 
 should wear loose-fitting\, comfortable clothing without zippers or button
 s (no tank tops or shorts). The doors open 10-minutes before the class. Th
 ere is no need to arrive any earlier\, however if you do feel free to take
  a walk in nature.\n\nParents are to drop kids for class( or walk to the d
 oor )\, there is not room for parents to stay.\n\nThank you for understand
 ing!!\n\n&nbsp\;\n\nRegistration and all major credit/debit cards are acce
 pted. Space is limited\, so please register ASAP! If you have any question
 s\, please email info@chareejanelle.com with questions\n\n&nbsp\;\n\n&nbsp
 \;\n\n&nbsp\;\n\n&nbsp\;\n\n&nbsp\;\n\n&nbsp\;\n\n\n\n&nbsp\;\n\n&nbsp\;\n
 \n&nbsp\;\n\n&nbsp\;
ATTACH;FMTTYPE=image/jpeg:https://chareejanelle.com/wp-content/uploads/202
 5/06/Screenshot_20250624_225021_Instagram.jpg
CATEGORIES:Kids
LOCATION:School of Miracles\, 1191 shiloh road\, Morgantown \, Pennsylvania
 \, United States
GEO:40.178288;-75.917456
X-APPLE-STRUCTURED-LOCATION;VALUE=URI;X-ADDRESS=1191 shiloh road\, Morganto
 wn \, Pennsylvania\, United States;X-APPLE-RADIUS=100;X-TITLE=School of Mi
 racles:geo:40.178288,-75.917456
END:VEVENT
BEGIN:VTIMEZONE
TZID:America/New_York
X-LIC-LOCATION:America/New_York
BEGIN:DAYLIGHT
DTSTART:20260308T030000
TZOFFSETFROM:-0500
TZOFFSETTO:-0400
TZNAME:EDT
END:DAYLIGHT
END:VTIMEZONE
END:VCALENDAR