BEGIN:VCALENDAR
VERSION:2.0
PRODID:-//wp-events-plugin.com//7.2.3.1//EN
TZID:America/New_York
X-WR-TIMEZONE:America/New_York
BEGIN:VEVENT
UID:157@chareejanelle.com
DTSTART;TZID=America/New_York:20240715T201500
DTEND;TZID=America/New_York:20240715T211500
DTSTAMP:20240715T000647Z
URL:https://chareejanelle.com/events-list/ocean-of-love-%f0%9f%8c%8a%e2%9c
 %a8%ef%b8%8f%f0%9f%94%a5holy-fire-healing-experience/
SUMMARY:OCEAN OF LOVE 🌊✨️🔥HOLY FIRE HEALING EXPERIENCE
DESCRIPTION:&nbsp\;\nHello Beautiful Souls.\n&nbsp\;\nPerhaps you are inter
 ested and would like to join for this deeply healing transformational expe
 rience.... I would be honored to be graced with your presence.\nWhether yo
 u have a very specific need or you are looking to destress\, find peace an
 d balance\, need support in letting go\, this experience will support you 
 and doing just that and it will bring you relaxation\, purification\, heal
 ing &amp\; empowerment.\nMiraculous Transformations are your birthright!!\
 nThis online group session will begin with an intro and be supported by so
 und vibration therapy.\nI invite you to join this profound deeply healing 
 session anchored with Holy Fire Reiki energy by calling upon Divine.\nShow
  up to receive and let the energy &amp\; loving light\, guidance\, wisdom\
 , safety and protection\, and peace of these beautiful light beings fill y
 our entire Being.\nThe word holy in the name Holy Fire is not religious - 
 rather it means wholeness. Holy Fire Reiki is spiritual energy that create
 s wholeness within through purification\, healing\, empowerment\, and guid
 ance directly from the Holy Fire and what is called the Third Heaven. This
  energy helps strengthen connection to the Divine and release old trauma f
 rom this life\, past lives\, or ancestral lines that passed down to us thr
 ough DNA. It helps us connect to divinity\, and awaken and integrate Chris
 t Consciousness - the 5th dimensional energy of unconditional love\, peace
 \, and joy. It guides us as we move through the Age of Aquarius to a highe
 r vibrational frequency\, from 3rd density and higher into 4th\, 5th\, and
  beyond. It is a wonderful match to those consciously on the soul path –
  path of Ascension - for whom a higher vibrational frequency is timely and
  within which healing is supported. This may include buy not limited to Bl
 ue Rays\, Starseeds (from every System) Empaths\, Indigo/ Crystal / Rainbo
 w adults\, Light Workers\, Shamans\, Way Showers\, Wanderers\, and those c
 alled to energy healing.\nHoly Fire Reiki works with the Beloved Infinite 
 Creator and highest vibration.\nJoin Charee in the zoom room on Monday Jul
 y 15th\, 8:15pm -9:15pm. Recording will be sent to those registered within
  24 hrs after session.🙌\n✨️Suggested Energy Exchange $22/ $33 /$44\
 n✨️You pick the amount &amp\;  submit via vemno  with your email add
 ress\, phone &amp\;  full name\nvia vemno or PayPal ⏬️\nvemno ----  
    @MiraculousEnterprises\nPayPal--------        info@chareejanelle.
 com\n\n&nbsp\;\n\nYou will receive an email with the zoom link &amp\; inst
 ructions for tomorrow evening.\n\n&nbsp\;\n\n&nbsp\;\n\n&nbsp\;\n\n✨️
 ✨️✨️✨️✨️✨️✨️✨️✨️✨️✨️✨️✨️
 ✨️✨️✨️✨️\n\n&nbsp\;\nDate: 7/15/24\nTime: 8:15pm - 9:15pm\
 n( will stay 10/15 min online afterwards to answer questions)\nThank you f
 or being here.\nAll are welcome. All parts.\nI see you\, I hear you and I 
 love you.\nIn Service to Love &amp\; truth\,\nCharee Janelle\nInfo@chareej
 anelle.com\nWww.chareejanelle.com
ATTACH;FMTTYPE=image/jpeg:https://chareejanelle.com/wp-content/uploads/202
 4/07/Screenshot_20240714_141721_Facebook.jpg
CATEGORIES:Workshops
END:VEVENT
BEGIN:VTIMEZONE
TZID:America/New_York
X-LIC-LOCATION:America/New_York
BEGIN:DAYLIGHT
DTSTART:20240310T030000
TZOFFSETFROM:-0500
TZOFFSETTO:-0400
TZNAME:EDT
END:DAYLIGHT
END:VTIMEZONE
END:VCALENDAR