BEGIN:VCALENDAR
VERSION:2.0
PRODID:-//wp-events-plugin.com//7.2.3.1//EN
TZID:America/New_York
X-WR-TIMEZONE:America/New_York
BEGIN:VEVENT
UID:75@chareejanelle.com
DTSTART;TZID=America/New_York:20230718T193000
DTEND;TZID=America/New_York:20230718T210000
DTSTAMP:20230714T185930Z
URL:https://chareejanelle.com/events-list/new-moon-drum-circle-fire-ceremo
 ny/
SUMMARY:New Moon Drum Circle Fire Ceremony
DESCRIPTION:[caption id="attachment_42806" align="alignnone" width="300"] C
 ommunity Drum &amp\; Fire Circle[/caption]
CATEGORIES:Sound
LOCATION:Charee Home Shala\, 1191 shiloh road\, morgantown pa\, Pennsylvani
 a\, 19543\, United States
GEO:40.178621;-75.917988
X-APPLE-STRUCTURED-LOCATION;VALUE=URI;X-ADDRESS=1191 shiloh road\, morganto
 wn pa\, Pennsylvania\, 19543\, United States;X-APPLE-RADIUS=100;X-TITLE=Ch
 aree Home Shala:geo:40.178621,-75.917988
END:VEVENT
BEGIN:VTIMEZONE
TZID:America/New_York
X-LIC-LOCATION:America/New_York
BEGIN:DAYLIGHT
DTSTART:20230312T030000
TZOFFSETFROM:-0500
TZOFFSETTO:-0400
TZNAME:EDT
END:DAYLIGHT
END:VTIMEZONE
END:VCALENDAR