BEGIN:VCALENDAR
VERSION:2.0
PRODID:-//wp-events-plugin.com//7.2.3.1//EN
TZID:America/New_York
X-WR-TIMEZONE:America/New_York
BEGIN:VEVENT
UID:215@chareejanelle.com
DTSTART;TZID=America/New_York:20250201T100000
DTEND;TZID=America/New_York:20250201T123000
DTSTAMP:20250130T152248Z
URL:https://chareejanelle.com/events-list/kundalini-fire-kundalini-activat
 ion-holy-fire-3/
SUMMARY:Kundalini Fire - Kundalini Activation & Holy Fire
DESCRIPTION:Bringing together the magic of Kundalini Activation and Holy Fi
 re Reiki in one amazing healing session!\n\nJoin us live in person in Ambl
 er\, PA or virtually via simulcast on Zoom!\n\nCome for a transformative e
 xperience that unites the power of Kundalini Activation and Holy Fire Reik
 i in a unique event designed to elevate your spirit and heal your soul. To
 m will guide yhe Kundalini Activation session to  awaken  inner strength
  and unlock your fullest  potential. Charee’s divine feminine presence 
 will channel  Holy Fire Energy.  Deep healing and a profound sense of pe
 ace will take place.  This sacred union of energies promises an unforgett
 able journey of balance\, empowerment\, and spiritual renewal. Don't miss 
 this opportunity to embrace the harmonious synergy of masculine and femini
 ne energies for a truly holistic transformation.\n\nWhat is Kundalini Acti
 vation?\n\nIt involves the direct transfer of Kundalini energy to trigger 
 the activation of your innate life force energy. This energy possesses its
  own intelligence and facilitates a secure and natural progression that ad
 apts to your specific needs at any given moment.\nThis process relies on r
 eceiving an energy transmission rather than trying to initiate it yourself
 . All that's necessary is for you to recline\, release tension in your bod
 y\, and be open to receiving the benefits of this practice. It's a path of
  surrender\, contrasting with the will-driven approach of kundalini yoga\,
  and it offers the potential for healing\, heightened states of consciousn
 ess\, and a deeper connection with both yourself and those around you.\n\n
 What is Holy Fire Reiki?\n\nHoly Fire Reiki is a powerful and refined form
  of Reiki energy that is both gentle and deeply healing. It works on a pro
 found spiritual level to cleanse\, purify\, and uplift the mind\, body\, a
 nd spirit. This healing practice is known for its ability to release deep-
 seated emotional blockages\, reduce stress and anxiety\, and promote a sen
 se of inner peace and wellbeing. Participants often experience a greater c
 onnection to their higher self\, enhanced clarity\, and a renewed sense of
  purpose. Holy Fire Reiki's transformative energy not only heals but also 
 empowers individuals to embrace their true potential\, fostering a holisti
 c sense of harmony and balance in their lives.\n\nAbout the Facilitators\n
 \nTom has been in the energy healing space for over 20 years\, first as a 
 Reiki Master\, an energy modality he discovered while traveling to Austral
 ia. He also received energy transmissions through a Native American Shaman
  while there\, who told him he was to be a spiritual leader of his generat
 ion\, something he found difficult to believe at the time but has since co
 me to accept as a sacred responsibility. He has spent years facilitating h
 is clients in his men's coaching business with Consciousness Exercises to 
 experience the 12 Stages of Healing\, from Suffering through to Oneness. R
 ecently adding this powerful Kundalini Activation modality to his toolkit 
 he's excited to bring healing and enlightenment to those souls that are re
 ady to receive it.\n\nCharee is a Reiki master\, mentor\, intuitive channe
 l\, transformational energy &amp\; movement facilitator\, trained &amp\; p
 rofessional dancer\, and mother to two of her greatest teachers. Over the 
 past twenty years\, she has served hundreds of people from all walks of li
 fe with her soul-led\, heart-centered healing\, compassion\, guidance\, an
 d intuitive gifts. She provides signature sacred services\, illuminating e
 vents &amp\; retreats\, Reiki training and certifications. Her mission is 
 to empower transformation in the world by guiding others to step up to the
 ir highest potential. She believes that within each of us there is an inne
 r wisdom that holds the answers to what is needed for our body\, mind\, an
 d spirit—and she provides tools to access them. When we master our minds
 \, emotions\, and energy\, we are empowered to be the change we wish to se
 e in the world.\n\n&nbsp\;\n\n&nbsp\;\n\nFebruary 1st\, 10am -12:30pm\n\nA
 waken &amp\; Restore\n\n716 north bethelhem pike\n\nAmbler\, PA\n\nPurchas
 e tickets on Eventbrite with\n\n"book here" or to save on eventbrite fees 
 submit $88 via vemno to charee  @miraculousenterprises\n\nInclude your fu
 ll name &amp\; email\n\nREGISTRATION⬇️⬇️\n\n
ATTACH;FMTTYPE=image/jpeg:https://chareejanelle.com/wp-content/uploads/202
 4/10/Screenshot_20241031_110545_Messenger-e1737237340231.jpg
CATEGORIES:Special guest,Workshops
LOCATION:awaken and restore\, 716 n bethelhem Pike \, Ambler \, Pa\, United
  States
GEO:40.176769;-75.22364
X-APPLE-STRUCTURED-LOCATION;VALUE=URI;X-ADDRESS=716 n bethelhem Pike \, Amb
 ler \, Pa\, United States;X-APPLE-RADIUS=100;X-TITLE=awaken and restore:ge
 o:40.176769,-75.22364
END:VEVENT
BEGIN:VTIMEZONE
TZID:America/New_York
X-LIC-LOCATION:America/New_York
BEGIN:STANDARD
DTSTART:20241103T010000
TZOFFSETFROM:-0400
TZOFFSETTO:-0500
TZNAME:EST
END:STANDARD
END:VTIMEZONE
END:VCALENDAR