BEGIN:VCALENDAR
VERSION:2.0
PRODID:-//wp-events-plugin.com//7.2.3.1//EN
TZID:America/New_York
X-WR-TIMEZONE:America/New_York
BEGIN:VEVENT
UID:191@chareejanelle.com
DTSTART;TZID=America/New_York:20241228T100000
DTEND;TZID=America/New_York:20241228T123000
DTSTAMP:20241101T160043Z
URL:https://chareejanelle.com/events-list/kundalini-fire-kundalini-activat
 ion-holy-fire-2/
SUMMARY:KUNDALINI FIRE -Kundalini Activation /Awaken& Restore Studio& Holy 
 Fire
DESCRIPTION:Bringing together the magic of Kundalini Activation and Holy Fi
 re Reiki in one amazing healing session!\n\nJoin us live in person in Ambl
 er PA or virtually via simulcast on Zoom!\n\nCome for a transformative exp
 erience that unites the power of Kundalini Activation and Holy Fire Reiki 
 in a unique event designed to elevate your spirit and heal your soul. Guid
 ed by Tantra Tom\, our Kundalini Activation session will awaken your inner
  strength and unlock your full potential. Charee’s divine feminine prese
 nce &amp\;  channeling Holy Fire energy will provide you with deep healin
 g\, a profound sense of peace &amp\; unconditional love ( a coming home to
  self).\n\nThis dance &amp\; sacred union of energies promises an unforget
 table journey of balance\, empowerment\, and spiritual renewal. Don't miss
  this opportunity to embrace the harmonious synergy of masculine and femin
 ine energies for a truly holistic transformation.\n\nWhat is Kundalini Act
 ivation?\n\nIt involves the direct transfer of Kundalini energy to trigger
  the activation of your innate life force energy. This energy possesses it
 s own intelligence and facilitates a secure and natural progression that a
 dapts to your specific needs at any given moment.\n\nThis process relies o
 n receiving an energy transmission rather than trying to initiate it yours
 elf. All that's necessary is for you to recline\, release tension in your 
 body\, and be open to receiving the benefits of this practice. It's a path
  of surrender\, contrasting with the will-driven approach of kundalini yog
 a\, and it offers the potential for healing\, heightened states of conscio
 usness\, and a deeper connection with both yourself and those around you.\
 n\nWhat is Holy Fire Reiki?\n\nHoly Fire Reiki is a powerful and refined f
 orm of Reiki energy that is both gentle and deeply healing. It works on a 
 profound spiritual level to cleanse\, purify\, and uplift the mind\, body\
 , and spirit. This healing practice is known for its ability to release de
 ep-seated emotional blockages\, reduce stress and anxiety\, and promote a 
 sense of inner peace and wellbeing. Participants often experience a greate
 r connection to their higher self\, enhanced clarity\, and a renewed sense
  of purpose. Holy Fire Reiki's transformative energy not only heals but al
 so empowers individuals to embrace their true potential\, fostering a holi
 stic sense of harmony and balance in their lives.\n\nAbout the Facilitator
 s\n\nTom has been in the energy healing space for over 20 years\, first as
  a Reiki Master\, an energy modality he discovered while traveling to Aust
 ralia. He also received energy transmissions through a Native American Sha
 man while there\, who told him he was to be a spiritual leader of his gene
 ration\, something he found difficult to believe at the time but has since
  come to accept as a sacred responsibility. He has spent years facilitatin
 g his clients in his men's coaching business with Consciousness Exercises 
 to experience the 12 Stages of Healing\, from Suffering through to Oneness
 . Recently adding this powerful Kundalini Activation modality to his toolk
 it he's excited to bring healing and enlightenment to those souls that are
  ready to receive it.\n\nCharee is an incredible powerful dynamic intuitiv
 e spiritual teacher &amp\; feminine force. She brings forth divine channel
 ing &amp\; heart opening activations. She is multidimensional artist\, mas
 ter energy teacher\, mentor &amp\; sacred bodywork practitioner whom encou
 rages people to access their divinity. Over the past two decades\, she has
  served thousands of people from all walks of life with her soul-led\, hea
 rt-centered wisdom\, compassion\, guidance\, and intuitive gifts. She prov
 ides signature sacred services\, illuminating events\, international retre
 ats\, Reiki training and certifications\, relationship mentorship &amp\; p
 rivate readings.\n\nKundalini Fire&amp\;: Holy Fire Reiki\n\nDate: Sat De
 cember 28th\n\nLocation: AWaken &amp\; Restore Center\, Ambler PA\n\n&nb
 sp\;\n\nREGISTRATION⬇️⬇️\n\n\n\n&nbsp\;\n\n&nbsp\;\n\n&nbsp\;\n\n&
 nbsp\;
ATTACH;FMTTYPE=image/jpeg:https://chareejanelle.com/wp-content/uploads/202
 4/10/Screenshot_20241031_110545_Messenger-e1737237340231.jpg
CATEGORIES:GUEST WORKSHOP,Workshops
END:VEVENT
BEGIN:VTIMEZONE
TZID:America/New_York
X-LIC-LOCATION:America/New_York
BEGIN:STANDARD
DTSTART:20241103T010000
TZOFFSETFROM:-0400
TZOFFSETTO:-0500
TZNAME:EST
END:STANDARD
END:VTIMEZONE
END:VCALENDAR