BEGIN:VCALENDAR
VERSION:2.0
PRODID:-//wp-events-plugin.com//7.2.3.1//EN
TZID:America/New_York
X-WR-TIMEZONE:America/New_York
BEGIN:VEVENT
UID:275@chareejanelle.com
DTSTART;TZID=America/New_York:20251019T090000
DTEND;TZID=America/New_York:20251019T094500
DTSTAMP:20251007T145525Z
URL:https://chareejanelle.com/events-list/kitty-yoga-w-callas-critters-2/
SUMMARY:KITTY YOGA w/Callas Critters
DESCRIPTION:&nbsp\;\n\nTIS’ THE SEASON to support kitties🐈🐈‍⬛
 ️\n\nI am excited to announce i partnered up with Calla’s Critters to 
 offer kitty yoga monthly.\n\nPlease see the sign up sheet below under clic
 k here\, it is $25 per person to enter. We will be holding three 45 minute
  sessions (8 people per session). Water\, coffee\, hot tea\, a snack will 
 be provided. We will have some yoga mats available if you do not have your
  own. Our kitties are so looking forward to seeing you all there\, SIGN UP
  NOW before the slots fill up fast🥹\n\n&nbsp\;\n\n🗓️Date: Sunday O
 ctober 19th\n\n&nbsp\;\n\n🕰️Time(s):\n\n9:00 AM\, 10:00 AM\, 11:00 AM
 \n\n&nbsp\;\n\n📍Location: Calla’s Kitty Garden (back of Animal House 
 Retail For Rescue store)\n\n1486 S. Hanover Street\n\nPottstown\, Pa 19465
 \n\n&nbsp\;\n\n📝Sign Up:\n\n&nbsp\;\n\n 	\n
ATTACH;FMTTYPE=image/jpeg:https://chareejanelle.com/wp-content/uploads/202
 5/10/IMG_20251007_105105-scaled.jpg
CATEGORIES:Special guest,Workshops
END:VEVENT
BEGIN:VTIMEZONE
TZID:America/New_York
X-LIC-LOCATION:America/New_York
BEGIN:DAYLIGHT
DTSTART:20250309T030000
TZOFFSETFROM:-0500
TZOFFSETTO:-0400
TZNAME:EDT
END:DAYLIGHT
END:VTIMEZONE
END:VCALENDAR