BEGIN:VCALENDAR
VERSION:2.0
PRODID:-//wp-events-plugin.com//7.2.3.1//EN
TZID:America/New_York
X-WR-TIMEZONE:America/New_York
BEGIN:VEVENT
UID:406@chareejanelle.com
DTSTART;TZID=America/New_York:20260426T150000
DTEND;TZID=America/New_York:20260426T160000
DTSTAMP:20260418T003229Z
URL:https://chareejanelle.com/events-list/kirtan-vegan-potluck/
SUMMARY:Kirtan + Vegan Potluck
DESCRIPTION:\n\n&nbsp\;\n\nNo experience required. BRing your voice &amp\; 
 beautiful hearts and join us at School Of Miracles for KIRTAN + vegan potl
 uck\n\n&nbsp\;\n\nRegistration required.
ATTACH;FMTTYPE=image/jpeg:https://chareejanelle.com/wp-content/uploads/202
 6/04/Kirtan-Potluck.png
LOCATION:School of Miracles\, 1191 shiloh road\, Morgantown \, Pennsylvania
 \, United States
GEO:40.178288;-75.917456
X-APPLE-STRUCTURED-LOCATION;VALUE=URI;X-ADDRESS=1191 shiloh road\, Morganto
 wn \, Pennsylvania\, United States;X-APPLE-RADIUS=100;X-TITLE=School of Mi
 racles:geo:40.178288,-75.917456
END:VEVENT
BEGIN:VTIMEZONE
TZID:America/New_York
X-LIC-LOCATION:America/New_York
BEGIN:DAYLIGHT
DTSTART:20260308T030000
TZOFFSETFROM:-0500
TZOFFSETTO:-0400
TZNAME:EDT
END:DAYLIGHT
END:VTIMEZONE
END:VCALENDAR