BEGIN:VCALENDAR
VERSION:2.0
PRODID:-//wp-events-plugin.com//7.2.3.1//EN
TZID:America/New_York
X-WR-TIMEZONE:America/New_York
BEGIN:VEVENT
UID:269@chareejanelle.com
DTSTART;TZID=America/New_York:20251101T083000
DTEND;TZID=America/New_York:20251102T173000
DTSTAMP:20250927T005546Z
URL:https://chareejanelle.com/events-list/integrated-manual-lymphatic-drai
 nage-massage-with-acupressure-and-essential-oils-and-cupping/
SUMMARY:INTEGRATED MANUAL LYMPHATIC DRAINAGE MASSAGE  WITH ACUPRESSURE AND 
 ESSENTIAL OILS AND CUPPING
DESCRIPTION:\n\n&nbsp\;\n\n&nbsp\;\nINTEGRATED MANUAL LYMPHATIC DRAINAGE MA
 SSAGE WITH ACUPRESSURE AND ESSENTIAL OILS AND CUPPING\n&nbsp\;\nTREATING T
 HE HEAD\, FACE\, TRUNK\, LIMBS\n&nbsp\;\n\nThis workshop is a multi-level 
 approach and focuses on four interrelated areas and syndromes where dysfun
 ctions occur.:\n\n 	TOXICITY\n\n\n 	CIRCULATION / LYMPHATIC FLOW\n\n\n 	IM
 MUNE SYSTEM\n\n\n 	INFLAMMATION ( inside/outside )\n\n&nbsp\;\n\nFirst\, t
 he theory of circulatory / lymphatic disorders are examined from a Western
  and Traditional Chinese Medicine perspective. Secondly\, a hands – on a
 pproach is used where the modalities of a. Acupressure b. Essential oils c
 . Cupping and c. Manual lymphatic drainage ( Vodder style ) are used in se
 quence. In addition\, Visceral manipulation is used on organs like the Spl
 een ( the largest lymphatic gland) The result is a synergistic blend that 
 is systemic and HOLISTIC in the outcome. Results are deep and long-lasting
  because many physiological systems\, like the endocrine system and not ju
 st the muscular or circulatory system\, get addressed.\n\nTherefore\, this
  is a truly MEDICAL MASSAGE COURSE\n\n&nbsp\;\n\nThe goal and outcome for 
 the student is as follows:\n\n 	Evaluate the signs and symptoms of the cli
 ent who has: Toxicity ( emotional and physical )\, Circulatory/lymphatic d
 isorders\, Inflammation\, Immune system weaknesses\n\n\n 	Compare the bene
 fits of treatments involving acupressure\, essential oils\, cupping\, and 
 manual lymphatic drainage\n\n\n 	Identify and distinguish important acupre
 ssure points and meridians involved in healing inflammations\, circulatory
  disorders\, toxicity\, and weak immune systems\n\n\n 	Set up a protocol a
 nd perform a blend of treatments that include acupressure\, essential oils
 \, cupping\, and manual lymphatic drainage\n\n\n 	Evaluate results and com
 pare with conditions before and after\n\n&nbsp\;\n\nTHE COURSE FOCUSES ON\
 n\n 	\n\n 	Theory of lymphatic flow from a Western and Eastern perspective
 :\n 	Increasing the flow of oxygen and blood to the facial area\, neck\, t
 runk\, and limbs\n\n\n\n\n 	\n\n 	Toning\, tightening\, and detoxification
  of skin and organ systems\n 	Better mental alertness\, focus\, and relaxa
 tion for the client\n\n\n\n\n 	\n\n 	Emotional and lymphatic cleansing thr
 ough the use of essential oils\n\n\n\n\n 	\n\n 	Preventive maintenance\n\n
 \n\n&nbsp\;\n\nTraditionally\, through the use of Acupressure and special 
 manipulative massage\n\nstrokes\, the treatment goes beyond Swedish massag
 e.\n\n&nbsp\;\n\nMASSAGE THERAPISTS\, SKIN ESTHETICIANS\, REIKI HEALERS AN
 D NURSES\n\nCAN BENEFIT FROM THIS HOLISTIC APPROACH\n\n&nbsp\;\n\nIn this 
 course\, you will learn according to the Holistic Chinese Model\n\n 	Infla
 mmation of soft tissue due to toxicity and injury. Edema caused by surgery
 \n 	Understanding the function of organs in Chinese medicine\n 	Location o
 f the most important Meridian/Channel points and meridians on the face\, h
 ead\, and body in getting rid of edema and toxicity\n 	Treatment protocols
  for the whole body. Accessing the surface lymphatics and deeper channels\
 n 	Treatment techniques for specific disorders\n 	Treating obesity and rel
 ated edema\n 	Self-treatment for the patient\n\n&nbsp\;\n\nStudents will b
 e able to apply this therapy in a variety of WORK situations:\n\n 	SPA AND
  RESORT BODY TREATMENTS SPORTS MASSAGE FACIALS DEEP TISSUE MASSAGE\n\n&nbs
 p\;\n\nCome dressed as if for a Swedish massage\, Sports halter top\, bath
 ing suit\, and bring linen.\n\n&nbsp\;\n\nREGISTER WITH WOLFGANG LUCKMANN:
  WWW.WOLFGANGLUCKMANN.COM\n\n/ WOLFGANG@WOLFGANGLUCKMANN.COM . 2021 WILDCA
 T CLIFFS LANE\,\n\nLAWRENCEVILLE\, GA\n\n&nbsp\;\n\nDID YOU KNOW? WOLFGANG
  HAS BEEN A MEMBER OF THE MASSAGE\n\nTHERAPY HALL OF FAME SINCE 2015\n\n&n
 bsp\;\n\n
ATTACH;FMTTYPE=image/jpeg:https://chareejanelle.com/wp-content/uploads/202
 5/09/Integrated-Manual-Lymphatic-2800x1600-3-scaled.png
CATEGORIES:GUEST WORKSHOP
LOCATION:School of Miracles\, 123 miracle way \, Morgantown \, Pennsylvania
 \, United States
GEO:40.155285;-75.889941
X-APPLE-STRUCTURED-LOCATION;VALUE=URI;X-ADDRESS=123 miracle way \, Morganto
 wn \, Pennsylvania\, United States;X-APPLE-RADIUS=100;X-TITLE=School of Mi
 racles:geo:40.155285,-75.889941
END:VEVENT
BEGIN:VTIMEZONE
TZID:America/New_York
X-LIC-LOCATION:America/New_York
BEGIN:DAYLIGHT
DTSTART:20250309T030000
TZOFFSETFROM:-0500
TZOFFSETTO:-0400
TZNAME:EDT
END:DAYLIGHT
BEGIN:STANDARD
DTSTART:20251102T010000
TZOFFSETFROM:-0400
TZOFFSETTO:-0500
TZNAME:EST
END:STANDARD
END:VTIMEZONE
END:VCALENDAR