BEGIN:VCALENDAR
VERSION:2.0
PRODID:-//wp-events-plugin.com//7.2.3.1//EN
TZID:America/New_York
X-WR-TIMEZONE:America/New_York
BEGIN:VEVENT
UID:151@chareejanelle.com
DTSTART;TZID=America/New_York:20240610T100000
DTEND;TZID=America/New_York:20240610T111100
DTSTAMP:20240502T221651Z
URL:https://chareejanelle.com/events-list/inner-child-healing-2/
SUMMARY:INNER CHILD HEALING
DESCRIPTION:&nbsp\;\nINNER CHILD HEALING\nHow you relationship with your in
 ner child affects everything!!  Seriously\, everything.  It is essential
  for your healing journey to your authentic self.  I know we are grown up
 s now\, but grownups also need to tune into their inner child.  Your inne
 r child is a metaphor for the vulnerable innocent\, truly sweet part of yo
 ur inner being.  Your child wants to be held\, listened to\, loved and se
 en\, and mostly PROTECTED!!  You as an adult need to take care of things.
  The more you show up for your inner child\, the more you show up for her\
 , him\,they.\n           Often what was not completed in our childho
 od\, repeats in our relationships\, especially romantic ones.  This small
  group experience can is offered via zoom and so you can be in the comfort
  &amp\; privacy of your own home.  Zoom link will be provided once you ar
 e registered and 24 hours prior to event you will receive an email with im
 portant details and any suggestions to make this as supportive as possible
 .  Questions??  Please feel free to reach out via email info@chareejanel
 le.com.  If you know someone that is looking for TLC for the soul\, pleas
 e consider sharing this with them.\n&nbsp\;\n\n&nbsp\;\nPay what you can p
 ricing\n$11\, $13\, $21\, $33\, $38\n&nbsp\;\n\n&nbsp\;\n\n&nbsp\;\n    
 REGISTRATION CLOSES 48 hrs prior to event!!!!\n&nbsp\;\n\n&nbsp\;\n\n&nbsp
 \;\n\n&nbsp\;
ATTACH;FMTTYPE=image/jpeg:https://chareejanelle.com/wp-content/uploads/202
 4/05/INNER-CHILD-HEALING.png
CATEGORIES:Relationship,Workshops
END:VEVENT
BEGIN:VTIMEZONE
TZID:America/New_York
X-LIC-LOCATION:America/New_York
BEGIN:DAYLIGHT
DTSTART:20240310T030000
TZOFFSETFROM:-0500
TZOFFSETTO:-0400
TZNAME:EDT
END:DAYLIGHT
END:VTIMEZONE
END:VCALENDAR