BEGIN:VCALENDAR
VERSION:2.0
PRODID:-//wp-events-plugin.com//7.2.3.1//EN
TZID:America/New_York
X-WR-TIMEZONE:America/New_York
BEGIN:VEVENT
UID:216@chareejanelle.com
DTSTART;TZID=America/New_York:20250325T190000
DTEND;TZID=America/New_York:20250325T203000
DTSTAMP:20250301T173424Z
URL:https://chareejanelle.com/events-list/in-the-dark-gong-meditation/
SUMMARY:In The Dark-Gong Bath Meditation
DESCRIPTION:Immerse Yourself in the Healing Power of the Gong\n\nExperience
  the transformative vibrations of the gong in the sacred stillness of dark
 ness. For thousands of years\, sound therapy has been used to reduce stres
 s\, release emotional blockages\, alleviate pain\, depression\, improve mo
 od\, promote relaxation\, reduce inflammation &amp\;  bring about deep sl
 eep.\n\nScientific studies suggest that sound therapy may even promote DNA
  repair\, vitality\, healing\, and happiness. Today\, many healthcare clin
 ics embrace sound therapy for its benefits in managing various conditions.
 \n\nIn Taoist tradition\, spending extended time in darkness is a spiritua
 l practice that allows the mind and soul to explore deeper realms\, reconn
 ecting with your highest state of being. True "love and light" emerge when
  one integrates and masters the shadow within.\n\n&nbsp\;\n\nThis unique j
 ourney was inspired a  profound transformation after a solo silent dark.
   It offers a balanced exploration of light and dark\, blending sacred te
 achings\, sound vibrations\, silence\, and stillness to guide you toward d
 eeper self-connection and transformation.\n\n&nbsp\;\n\nWhat to Bring:\n\n
 Dress in comfortable layers\, bring an eye mask that fully covers your eye
 s\, yoga mat\, and blanket to cover up with and anything else for your com
 fort.\n\nAvoid heavy meals 90 minutes before the session.\n\nHydrate and d
 rink plenty of water post session.\n\nA journal and something to write wit
 h if you feel called.\n\nPlease arrive a few minutes early so  the journe
 y can begin promptly.\n\n&nbsp\;\n\n&nbsp\;\n\nWhat to expect?\n\n✨️Op
 ening prayer\, blessing\, intention setting\n\n✨️Guided conscious brea
 thing\n\n✨️ Experience gong bath meditative journey while in a deeply 
 surrendered safe &amp\; sacred space\n\n✨️ Sacred Teachings\, insight 
 &amp\; channeled messages woven throughout\n\n✨️Sacred stillness &amp\
 ; Silence /Integration\n\n✨️ Community share\, reflections &amp\; clos
 ing circle\n\n&nbsp\;\n\n&nbsp\;\n\nAbout Charee Janelle:\n\nCharee Janell
 e is a dynamic intuitive teacher and healer dedicated to facilitating mira
 culous transformations. A master in sound\, movement\, breathwork\, and Ho
 ly Fire Reiki\, Charee has over two decades of experience as a heart-cente
 red leader. Her gifts include divine channeling\, sacred teachings\, and g
 uiding others toward alignment and joy.\n\n&nbsp\;\n\nBased in Morgantown\
 , PA\, Charee shares her love and light through her private practice and g
 rowing community. A proud mother of two\, she considers her children her g
 reatest blessings and teachers.\n\n&nbsp\;\n\nFor more about Charee\, visi
 t www.chareejanelle.com.\n\n&nbsp\;\n\nThis transformative evening invites
  you to embrace all aspects of your being. Let this sacred journey be a gi
 ft to yourself.\n\nShow up with an open mind and open heart.\n\nTrust the 
 process.\n\nYou are loved.\n\n&nbsp\;\n\nCharee shares revelations\, wisdo
 m &amp\; teachings about the time in darkness and explore what our relatio
 nship to darkness is &amp\; how we can accept it and integrate into our be
 ingness\, our whole sovereign self.\n\n&nbsp\;\n\nYou will exactly what yo
 u need from our time together.\n\n&nbsp\;\n\nRegister now.\n\n&nbsp\;\n\nL
 ocation:\n\nThe Nest Collective\n\n&nbsp\;\n\nWhen:\n\nTuesday\, March 25t
 h\, 7pm\n\n&nbsp\;\n\n\n\n&nbsp\;\n\n&nbsp\;
ATTACH;FMTTYPE=image/jpeg:https://chareejanelle.com/wp-content/uploads/202
 5/01/Screenshot_20250301_123148_Instagram.jpg
LOCATION:the nest collective\, penn ave\, reading \, pa\, United States
GEO:40.335648;-75.926875
X-APPLE-STRUCTURED-LOCATION;VALUE=URI;X-ADDRESS=penn ave\, reading \, pa\, 
 United States;X-APPLE-RADIUS=100;X-TITLE=the nest collective:geo:40.335648
 ,-75.926875
END:VEVENT
BEGIN:VTIMEZONE
TZID:America/New_York
X-LIC-LOCATION:America/New_York
BEGIN:DAYLIGHT
DTSTART:20250309T030000
TZOFFSETFROM:-0500
TZOFFSETTO:-0400
TZNAME:EDT
END:DAYLIGHT
END:VTIMEZONE
END:VCALENDAR